BEGIN:VCALENDAR
VERSION:2.0
PRODID:-//St Teresa International University - ECPv6.5.1.5//NONSGML v1.0//EN
CALSCALE:GREGORIAN
METHOD:PUBLISH
X-ORIGINAL-URL:https://trsu.ac.th
X-WR-CALDESC:Events for St Teresa International University
REFRESH-INTERVAL;VALUE=DURATION:PT1H
X-Robots-Tag:noindex
X-PUBLISHED-TTL:PT1H
BEGIN:VTIMEZONE
TZID:UTC
BEGIN:STANDARD
TZOFFSETFROM:+0000
TZOFFSETTO:+0000
TZNAME:UTC
DTSTART:20210101T000000
END:STANDARD
END:VTIMEZONE
BEGIN:VEVENT
DTSTART;VALUE=DATE:20210616
DTEND;VALUE=DATE:20210617
DTSTAMP:20260425T035817
CREATED:20211113T033619Z
LAST-MODIFIED:20211113T034237Z
UID:7243-1623801600-1623887999@trsu.ac.th
SUMMARY:ตรวจประกันคุณภาพระดับหลักสูตร สาขาการควบคุมจราจรทางอากาศและสาขาการบิน
DESCRIPTION:
URL:https://trsu.ac.th/event/%e0%b8%95%e0%b8%a3%e0%b8%a7%e0%b8%88%e0%b8%9b%e0%b8%a3%e0%b8%b0%e0%b8%81%e0%b8%b1%e0%b8%99%e0%b8%84%e0%b8%b8%e0%b8%93%e0%b8%a0%e0%b8%b2%e0%b8%9e%e0%b8%a3%e0%b8%b0%e0%b8%94%e0%b8%b1%e0%b8%9a%e0%b8%ab-3
LOCATION:Maria Room
CATEGORIES:Business Administration Faculty Events
END:VEVENT
BEGIN:VEVENT
DTSTART;VALUE=DATE:20210617
DTEND;VALUE=DATE:20210618
DTSTAMP:20260425T035817
CREATED:20211113T033338Z
LAST-MODIFIED:20211113T034453Z
UID:7242-1623888000-1623974399@trsu.ac.th
SUMMARY:ตรวจประกันคุณภาพระดับหลักสูตร สาขาการบริหารธุรกิจและสาขาธุรกิจการบิน
DESCRIPTION:
URL:https://trsu.ac.th/event/%e0%b8%95%e0%b8%a3%e0%b8%a7%e0%b8%88%e0%b8%9b%e0%b8%a3%e0%b8%b0%e0%b8%81%e0%b8%b1%e0%b8%99%e0%b8%84%e0%b8%b8%e0%b8%93%e0%b8%a0%e0%b8%b2%e0%b8%9e%e0%b8%a3%e0%b8%b0%e0%b8%94%e0%b8%b1%e0%b8%9a%e0%b8%ab-2
LOCATION:Maria Room
CATEGORIES:Business Administration Faculty Events
END:VEVENT
BEGIN:VEVENT
DTSTART;TZID=UTC:20210622T090000
DTEND;TZID=UTC:20210622T120000
DTSTAMP:20260425T035817
CREATED:20211113T034812Z
LAST-MODIFIED:20211113T034819Z
UID:7245-1624352400-1624363200@trsu.ac.th
SUMMARY:ตรวจประกันคุณภาพระดับหลักสูตร สาขาการบัญชี
DESCRIPTION:
URL:https://trsu.ac.th/event/%e0%b8%95%e0%b8%a3%e0%b8%a7%e0%b8%88%e0%b8%9b%e0%b8%a3%e0%b8%b0%e0%b8%81%e0%b8%b1%e0%b8%99%e0%b8%84%e0%b8%b8%e0%b8%93%e0%b8%a0%e0%b8%b2%e0%b8%9e%e0%b8%a3%e0%b8%b0%e0%b8%94%e0%b8%b1%e0%b8%9a%e0%b8%ab
LOCATION:Maria Room
CATEGORIES:Business Administration Faculty Events
END:VEVENT
BEGIN:VEVENT
DTSTART;TZID=UTC:20210628T090000
DTEND;TZID=UTC:20210628T120000
DTSTAMP:20260425T035817
CREATED:20211113T035128Z
LAST-MODIFIED:20211113T035141Z
UID:7246-1624870800-1624881600@trsu.ac.th
SUMMARY:ตรวจประกันคุณภาพระดับหลักสูตร มหาบัณฑิต
DESCRIPTION:
URL:https://trsu.ac.th/event/%e0%b8%95%e0%b8%a3%e0%b8%a7%e0%b8%88%e0%b8%9b%e0%b8%a3%e0%b8%b0%e0%b8%81%e0%b8%b1%e0%b8%99%e0%b8%84%e0%b8%b8%e0%b8%93%e0%b8%a0%e0%b8%b2%e0%b8%9e%e0%b8%a3%e0%b8%b0%e0%b8%94%e0%b8%b1%e0%b8%9a%e0%b8%ab-4
LOCATION:Maria Room
CATEGORIES:Business Administration Faculty Events
END:VEVENT
END:VCALENDAR