BEGIN:VCALENDAR
VERSION:2.0
PRODID:-//St Teresa International University - ECPv6.5.1.5//NONSGML v1.0//EN
CALSCALE:GREGORIAN
METHOD:PUBLISH
X-WR-CALNAME:St Teresa International University
X-ORIGINAL-URL:https://trsu.ac.th
X-WR-CALDESC:Events for St Teresa International University
REFRESH-INTERVAL;VALUE=DURATION:PT1H
X-Robots-Tag:noindex
X-PUBLISHED-TTL:PT1H
BEGIN:VTIMEZONE
TZID:UTC
BEGIN:STANDARD
TZOFFSETFROM:+0000
TZOFFSETTO:+0000
TZNAME:UTC
DTSTART:20210101T000000
END:STANDARD
END:VTIMEZONE
BEGIN:VEVENT
DTSTART;VALUE=DATE:20210302
DTEND;VALUE=DATE:20210303
DTSTAMP:20260425T134205
CREATED:20211113T035430Z
LAST-MODIFIED:20211113T035435Z
UID:7248-1614643200-1614729599@trsu.ac.th
SUMMARY:Study Tour/ Company Visits @ บริษัท ศรีราชา เอวิเอชั่น จำกัด
DESCRIPTION:
URL:https://trsu.ac.th/event/study-tour-company-visits-%e0%b8%9a%e0%b8%a3%e0%b8%b4%e0%b8%a9%e0%b8%b1%e0%b8%97-%e0%b8%a8%e0%b8%a3%e0%b8%b5%e0%b8%a3%e0%b8%b2%e0%b8%8a%e0%b8%b2-%e0%b9%80%e0%b8%ad%e0%b8%a7%e0%b8%b4%e0%b9%80-2
LOCATION:บริษัท ศรีราชา เอวิเอชั่น จำกัด\, กรุงเทพฯ
CATEGORIES:Business Administration Faculty Events
END:VEVENT
END:VCALENDAR