BEGIN:VCALENDAR
VERSION:2.0
PRODID:-//St Teresa International University - ECPv6.5.1.5//NONSGML v1.0//EN
CALSCALE:GREGORIAN
METHOD:PUBLISH
X-ORIGINAL-URL:https://trsu.ac.th
X-WR-CALDESC:Events for St Teresa International University
REFRESH-INTERVAL;VALUE=DURATION:PT1H
X-Robots-Tag:noindex
X-PUBLISHED-TTL:PT1H
BEGIN:VTIMEZONE
TZID:UTC
BEGIN:STANDARD
TZOFFSETFROM:+0000
TZOFFSETTO:+0000
TZNAME:UTC
DTSTART:20210101T000000
END:STANDARD
END:VTIMEZONE
BEGIN:VEVENT
DTSTART;TZID=UTC:20211109T120000
DTEND;TZID=UTC:20211109T150000
DTSTAMP:20260425T120329
CREATED:20211019T030942Z
LAST-MODIFIED:20211108T020044Z
UID:6667-1636459200-1636470000@trsu.ac.th
SUMMARY:1St KM Day 2021
DESCRIPTION:
URL:https://trsu.ac.th/event/1st-km-day-2021
LOCATION:Lobby of Administration Building
CATEGORIES:Academic Calendar,Business Administration Faculty Events,College Events,Education Faculty Events,Humanities & Social Science Faculty Events,Nursing Science Faculty Events,Public Health Faculty Events,Quality Assurance Events
END:VEVENT
BEGIN:VEVENT
DTSTART;TZID=UTC:20211130T080000
DTEND;TZID=UTC:20211130T170000
DTSTAMP:20260425T120329
CREATED:20211127T094038Z
LAST-MODIFIED:20211127T094038Z
UID:7394-1638259200-1638291600@trsu.ac.th
SUMMARY:การประเมินคุณภาพการศึกษาภายนอก รอบที่ 4 ปีการศึกษา 2559-2563 ผ่านระบบออนไลน์ โดยสำนักงานรับรองมาตรฐานและประเมินคุณภาพการศึกษา(องค์การมหาชน) -สมศ.
DESCRIPTION:
URL:https://trsu.ac.th/event/%e0%b8%81%e0%b8%b2%e0%b8%a3%e0%b8%9b%e0%b8%a3%e0%b8%b0%e0%b9%80%e0%b8%a1%e0%b8%b4%e0%b8%99%e0%b8%84%e0%b8%b8%e0%b8%93%e0%b8%a0%e0%b8%b2%e0%b8%9e%e0%b8%81%e0%b8%b2%e0%b8%a3%e0%b8%a8%e0%b8%b6%e0%b8%81-8
LOCATION:Saint Mary Buliding\, SMB-104 \, 1st floor
CATEGORIES:Business Administration Faculty Events,College Events,Education Faculty Events,Humanities & Social Science Faculty Events,Nursing Science Faculty Events,Public Health Faculty Events,Quality Assurance Events
END:VEVENT
BEGIN:VEVENT
DTSTART;VALUE=DATE:20211208
DTEND;VALUE=DATE:20211209
DTSTAMP:20260425T120329
CREATED:20211115T034027Z
LAST-MODIFIED:20211115T034027Z
UID:7256-1638921600-1639007999@trsu.ac.th
SUMMARY:ศึกษาดูงานเยี่ยมชมหอบังคับการบินท่าอากาศยานนานาชาติอู่ตะเภา สังกัดกองการบินทหารเรือ สาขาวิชาการควบคุมจราจรทางอากาศ
DESCRIPTION:
URL:https://trsu.ac.th/event/%e0%b8%a8%e0%b8%b6%e0%b8%81%e0%b8%a9%e0%b8%b2%e0%b8%94%e0%b8%b9%e0%b8%87%e0%b8%b2%e0%b8%99%e0%b9%80%e0%b8%a2%e0%b8%b5%e0%b9%88%e0%b8%a2%e0%b8%a1%e0%b8%8a%e0%b8%a1%e0%b8%ab%e0%b8%ad%e0%b8%9a%e0%b8%b1
LOCATION:สนามบินนานาชาติอู่ตะเภา จังหวัดระยอง\, จังหวัดระยอง\, ระยอง
CATEGORIES:Business Administration Faculty Events
END:VEVENT
BEGIN:VEVENT
DTSTART;TZID=UTC:20211208T040000
DTEND;TZID=UTC:20211208T170000
DTSTAMP:20260425T120329
CREATED:20211115T033844Z
LAST-MODIFIED:20211115T033844Z
UID:7254-1638936000-1638982800@trsu.ac.th
SUMMARY:โครงการส่งเสริมคุณธรรม จริยธรรม (บำเพ็ญสาธารณประโยชน์หาดนภานาวี ริมชายหาดสนามบินนานาชาติอู่ตะเภา จังหวัดระยอง)
DESCRIPTION:
URL:https://trsu.ac.th/event/%e0%b9%82%e0%b8%84%e0%b8%a3%e0%b8%87%e0%b8%81%e0%b8%b2%e0%b8%a3%e0%b8%aa%e0%b9%88%e0%b8%87%e0%b9%80%e0%b8%aa%e0%b8%a3%e0%b8%b4%e0%b8%a1%e0%b8%84%e0%b8%b8%e0%b8%93%e0%b8%98%e0%b8%a3%e0%b8%a3%e0%b8%a1
LOCATION:สนามบินนานาชาติอู่ตะเภา จังหวัดระยอง\, จังหวัดระยอง\, ระยอง
CATEGORIES:Business Administration Faculty Events
END:VEVENT
BEGIN:VEVENT
DTSTART;TZID=UTC:20211221T110000
DTEND;TZID=UTC:20211221T120000
DTSTAMP:20260425T120329
CREATED:20211127T090026Z
LAST-MODIFIED:20211127T090026Z
UID:7387-1640084400-1640088000@trsu.ac.th
SUMMARY:พิธีลงนามบันทึกความร่วมมือทางวิชาการ ระหว่างวิทยาลัยนานาชาติเซนต์เทเรซา กับ บริษัท พัทยา เอวิเอชั่น จำกัด
DESCRIPTION:
URL:https://trsu.ac.th/event/%e0%b8%9e%e0%b8%b4%e0%b8%98%e0%b8%b5%e0%b8%a5%e0%b8%87%e0%b8%99%e0%b8%b2%e0%b8%a1%e0%b8%9a%e0%b8%b1%e0%b8%99%e0%b8%97%e0%b8%b6%e0%b8%81%e0%b8%84%e0%b8%a7%e0%b8%b2%e0%b8%a1%e0%b8%a3%e0%b9%88%e0%b8%a7-2
CATEGORIES:Business Administration Faculty Events,College Events,President Office,Quality Assurance Events
END:VEVENT
END:VCALENDAR