BEGIN:VCALENDAR
VERSION:2.0
PRODID:-//St Teresa International University - ECPv6.5.1.5//NONSGML v1.0//EN
CALSCALE:GREGORIAN
METHOD:PUBLISH
X-WR-CALNAME:St Teresa International University
X-ORIGINAL-URL:https://trsu.ac.th
X-WR-CALDESC:Events for St Teresa International University
REFRESH-INTERVAL;VALUE=DURATION:PT1H
X-Robots-Tag:noindex
X-PUBLISHED-TTL:PT1H
BEGIN:VTIMEZONE
TZID:UTC
BEGIN:STANDARD
TZOFFSETFROM:+0000
TZOFFSETTO:+0000
TZNAME:UTC
DTSTART:20150101T000000
END:STANDARD
END:VTIMEZONE
BEGIN:VEVENT
DTSTART;TZID=UTC:20211221T110000
DTEND;TZID=UTC:20211221T120000
DTSTAMP:20260423T162253
CREATED:20211127T090026Z
LAST-MODIFIED:20211127T090026Z
UID:7387-1640084400-1640088000@trsu.ac.th
SUMMARY:พิธีลงนามบันทึกความร่วมมือทางวิชาการ ระหว่างวิทยาลัยนานาชาติเซนต์เทเรซา กับ บริษัท พัทยา เอวิเอชั่น จำกัด
DESCRIPTION:
URL:https://trsu.ac.th/event/%e0%b8%9e%e0%b8%b4%e0%b8%98%e0%b8%b5%e0%b8%a5%e0%b8%87%e0%b8%99%e0%b8%b2%e0%b8%a1%e0%b8%9a%e0%b8%b1%e0%b8%99%e0%b8%97%e0%b8%b6%e0%b8%81%e0%b8%84%e0%b8%a7%e0%b8%b2%e0%b8%a1%e0%b8%a3%e0%b9%88%e0%b8%a7-2
CATEGORIES:Business Administration Faculty Events,College Events,President Office,Quality Assurance Events
END:VEVENT
BEGIN:VEVENT
DTSTART;TZID=UTC:20211203T133000
DTEND;TZID=UTC:20211203T160000
DTSTAMP:20260423T162253
CREATED:20211127T092920Z
LAST-MODIFIED:20211127T092920Z
UID:7390-1638538200-1638547200@trsu.ac.th
SUMMARY:ประชุมสภาวิทยาลัย ครั้งที่ 4/2564
DESCRIPTION:
URL:https://trsu.ac.th/event/%e0%b8%9b%e0%b8%a3%e0%b8%b0%e0%b8%8a%e0%b8%b8%e0%b8%a1%e0%b8%aa%e0%b8%a0%e0%b8%b2%e0%b8%a7%e0%b8%b4%e0%b8%97%e0%b8%a2%e0%b8%b2%e0%b8%a5%e0%b8%b1%e0%b8%a2-%e0%b8%84%e0%b8%a3%e0%b8%b1%e0%b9%89%e0%b8%87
LOCATION:Saint Mary Buliding\, SMB-104 \, 1st floor
CATEGORIES:College Events,President Office
END:VEVENT
BEGIN:VEVENT
DTSTART;TZID=UTC:20211202T100000
DTEND;TZID=UTC:20211202T120000
DTSTAMP:20260423T162253
CREATED:20211127T085628Z
LAST-MODIFIED:20211127T090237Z
UID:7384-1638439200-1638446400@trsu.ac.th
SUMMARY:พิธีลงนามบันทึกความร่วมมือทางวิชาการ ระหว่างวิทยาลัยนานาชาติเซนต์เทเรซา กับ โรงเรียนเซนต์เทเรซา หัวหมาก
DESCRIPTION:
URL:https://trsu.ac.th/event/%e0%b8%9e%e0%b8%b4%e0%b8%98%e0%b8%b5%e0%b8%a5%e0%b8%87%e0%b8%99%e0%b8%b2%e0%b8%a1%e0%b8%9a%e0%b8%b1%e0%b8%99%e0%b8%97%e0%b8%b6%e0%b8%81%e0%b8%84%e0%b8%a7%e0%b8%b2%e0%b8%a1%e0%b8%a3%e0%b9%88%e0%b8%a7
LOCATION:Maria Therese Room
CATEGORIES:College Events,Education Faculty Events,President Office
END:VEVENT
BEGIN:VEVENT
DTSTART;TZID=UTC:20211130T080000
DTEND;TZID=UTC:20211130T170000
DTSTAMP:20260423T162253
CREATED:20211127T094038Z
LAST-MODIFIED:20211127T094038Z
UID:7394-1638259200-1638291600@trsu.ac.th
SUMMARY:การประเมินคุณภาพการศึกษาภายนอก รอบที่ 4 ปีการศึกษา 2559-2563 ผ่านระบบออนไลน์ โดยสำนักงานรับรองมาตรฐานและประเมินคุณภาพการศึกษา(องค์การมหาชน) -สมศ.
DESCRIPTION:
URL:https://trsu.ac.th/event/%e0%b8%81%e0%b8%b2%e0%b8%a3%e0%b8%9b%e0%b8%a3%e0%b8%b0%e0%b9%80%e0%b8%a1%e0%b8%b4%e0%b8%99%e0%b8%84%e0%b8%b8%e0%b8%93%e0%b8%a0%e0%b8%b2%e0%b8%9e%e0%b8%81%e0%b8%b2%e0%b8%a3%e0%b8%a8%e0%b8%b6%e0%b8%81-8
LOCATION:Saint Mary Buliding\, SMB-104 \, 1st floor
CATEGORIES:Business Administration Faculty Events,College Events,Education Faculty Events,Humanities & Social Science Faculty Events,Nursing Science Faculty Events,Public Health Faculty Events,Quality Assurance Events
END:VEVENT
BEGIN:VEVENT
DTSTART;TZID=UTC:20211109T120000
DTEND;TZID=UTC:20211109T150000
DTSTAMP:20260423T162253
CREATED:20211019T030942Z
LAST-MODIFIED:20211108T020044Z
UID:6667-1636459200-1636470000@trsu.ac.th
SUMMARY:1St KM Day 2021
DESCRIPTION:
URL:https://trsu.ac.th/event/1st-km-day-2021
LOCATION:Lobby of Administration Building
CATEGORIES:Academic Calendar,Business Administration Faculty Events,College Events,Education Faculty Events,Humanities & Social Science Faculty Events,Nursing Science Faculty Events,Public Health Faculty Events,Quality Assurance Events
END:VEVENT
BEGIN:VEVENT
DTSTART;TZID=UTC:20211104T130000
DTEND;TZID=UTC:20211104T150000
DTSTAMP:20260423T162253
CREATED:20211103T032753Z
LAST-MODIFIED:20211103T032753Z
UID:6804-1636030800-1636038000@trsu.ac.th
SUMMARY:Online seminars with Directors of schools under the project of U-SCHOOL MENTORING 2021
DESCRIPTION:
URL:https://trsu.ac.th/event/online-seminars-directors-schools-project-u-school-mentoring-2021
CATEGORIES:College Events,Education Faculty Events
END:VEVENT
BEGIN:VEVENT
DTSTART;TZID=UTC:20211103T140000
DTEND;TZID=UTC:20211103T150000
DTSTAMP:20260423T162253
CREATED:20211103T032435Z
LAST-MODIFIED:20211103T033125Z
UID:6803-1635948000-1635951600@trsu.ac.th
SUMMARY:Online seminars with Mentor Teachers of 5th-year students who are on the process of Internship II in primary and secondary schools
DESCRIPTION:
URL:https://trsu.ac.th/event/online-seminars-mentor-teachers-5th-year-students-process-internship-ii-primary-secondary-schools
CATEGORIES:College Events,Education Faculty Events
END:VEVENT
BEGIN:VEVENT
DTSTART;TZID=UTC:20211027T130000
DTEND;TZID=UTC:20211027T170000
DTSTAMP:20260423T162253
CREATED:20211019T052823Z
LAST-MODIFIED:20211019T065100Z
UID:6673-1635339600-1635354000@trsu.ac.th
SUMMARY:โครงการ "การพัฒนาการจัดการความรู้สู่การปฏิบัติที่เป็นเลิศ สาขาพยาบาลศาสตร์"
DESCRIPTION:
URL:https://trsu.ac.th/event/%e0%b9%82%e0%b8%84%e0%b8%a3%e0%b8%87%e0%b8%81%e0%b8%b2%e0%b8%a3-%e0%b8%81%e0%b8%b2%e0%b8%a3%e0%b8%9e%e0%b8%b1%e0%b8%92%e0%b8%99%e0%b8%b2%e0%b8%81%e0%b8%b2%e0%b8%a3%e0%b8%88%e0%b8%b1%e0%b8%94%e0%b8%81
LOCATION:คณะพยาบาลศาสตร์
CATEGORIES:Academic Calendar,College Events,Nursing Science Faculty Events
END:VEVENT
BEGIN:VEVENT
DTSTART;TZID=UTC:20211025T080000
DTEND;TZID=UTC:20211025T170000
DTSTAMP:20260423T162253
CREATED:20211019T071610Z
LAST-MODIFIED:20211019T071610Z
UID:6693-1635148800-1635181200@trsu.ac.th
SUMMARY:First Day Semester 2/2021
DESCRIPTION:
URL:https://trsu.ac.th/event/first-day-semester-22021
CATEGORIES:Academic Calendar,College Events
END:VEVENT
BEGIN:VEVENT
DTSTART;TZID=UTC:20211022T080000
DTEND;TZID=UTC:20211022T170000
DTSTAMP:20260423T162253
CREATED:20211019T061515Z
LAST-MODIFIED:20211019T061515Z
UID:6682-1634889600-1634922000@trsu.ac.th
SUMMARY:การประชุมวิชาการออนไลน์ "การเขียนบทความทางการพยาบาล เพื่อตีพิมพ์ในวารสารนานาชาติ"
DESCRIPTION:
URL:https://trsu.ac.th/event/%e0%b8%81%e0%b8%b2%e0%b8%a3%e0%b8%9b%e0%b8%a3%e0%b8%b0%e0%b8%8a%e0%b8%b8%e0%b8%a1%e0%b8%a7%e0%b8%b4%e0%b8%8a%e0%b8%b2%e0%b8%81%e0%b8%b2%e0%b8%a3%e0%b8%ad%e0%b8%ad%e0%b8%99%e0%b9%84%e0%b8%a5%e0%b8%99
LOCATION:คณะพยาบาลศาสตร์
CATEGORIES:Academic Calendar,College Events,Nursing Science Faculty Events
END:VEVENT
BEGIN:VEVENT
DTSTART;TZID=UTC:20211021T083000
DTEND;TZID=UTC:20211021T110000
DTSTAMP:20260423T162253
CREATED:20211019T013944Z
LAST-MODIFIED:20211019T062307Z
UID:6658-1634805000-1634814000@trsu.ac.th
SUMMARY:โครงการพยาบาลเซนต์เทเรซาร่วมใจ ให้บริการประชาชน เนื่องในวันพยาบาลแห่งชาติ
DESCRIPTION: 
URL:https://trsu.ac.th/event/%e0%b9%82%e0%b8%84%e0%b8%a3%e0%b8%87%e0%b8%81%e0%b8%b2%e0%b8%a3%e0%b8%9e%e0%b8%a2%e0%b8%b2%e0%b8%9a%e0%b8%b2%e0%b8%a5%e0%b9%80%e0%b8%8b%e0%b8%99%e0%b8%95%e0%b9%8c%e0%b9%80%e0%b8%97%e0%b9%80%e0%b8%a3
LOCATION:ห้องโถงอาคารเรียน ชั้น 1 และอาคารศาลาดอกปีบ ตึกคณะพยาบาลศาสตร์
CATEGORIES:Academic Calendar,College Events,Nursing Science Faculty Events
END:VEVENT
BEGIN:VEVENT
DTSTART;VALUE=DATE:20151203
DTEND;VALUE=DATE:20151204
DTSTAMP:20260423T162253
CREATED:20151120T013327Z
LAST-MODIFIED:20151120T013327Z
UID:2077-1449100800-1449187199@trsu.ac.th
SUMMARY:Graduation Ceremony 2015
DESCRIPTION:
URL:https://trsu.ac.th/event/graduation-ceremony-2015
LOCATION:Joseph Marie Building\, Thailand
CATEGORIES:Academic Calendar,College Events
END:VEVENT
BEGIN:VEVENT
DTSTART;TZID=UTC:20151201T080000
DTEND;TZID=UTC:20151201T170000
DTSTAMP:20260423T162253
CREATED:20151120T013129Z
LAST-MODIFIED:20151120T013141Z
UID:2076-1448956800-1448989200@trsu.ac.th
SUMMARY:Graduation Rehearsal 2015
DESCRIPTION:
URL:https://trsu.ac.th/event/graduation-rehearsal
LOCATION:Joseph Marie Building\, Thailand
CATEGORIES:College Events
END:VEVENT
BEGIN:VEVENT
DTSTART;TZID=UTC:20151125T170000
DTEND;TZID=UTC:20151125T210000
DTSTAMP:20260423T162253
CREATED:20151106T092717Z
LAST-MODIFIED:20151106T092717Z
UID:2071-1448470800-1448485200@trsu.ac.th
SUMMARY:Loy Krathong Festival
DESCRIPTION:
URL:https://trsu.ac.th/event/loy-krathong-festival
LOCATION:Main Building\, St Theresa International College\, 1 Moo 6 Rangsit-Nakornnayok Road\, Bungsan\, Ongkarak\, Nakhon Nayok\, 26120\, Thailand
CATEGORIES:College Events
END:VEVENT
BEGIN:VEVENT
DTSTART;VALUE=DATE:20151113
DTEND;VALUE=DATE:20151114
DTSTAMP:20260423T162253
CREATED:20151106T092925Z
LAST-MODIFIED:20151106T092925Z
UID:2072-1447372800-1447459199@trsu.ac.th
SUMMARY:Sports Day
DESCRIPTION:
URL:https://trsu.ac.th/event/sports-day
LOCATION:Outdoor Sports Area\, 1 Moo Rangist-Nakhonnayok Road (Klong 14)\, Bungsan\, Ongkarak\, Nakhon Nayok\, 26120\, Thailand
CATEGORIES:College Events
END:VEVENT
END:VCALENDAR