BEGIN:VCALENDAR
VERSION:2.0
PRODID:-//St Teresa International University - ECPv6.5.1.5//NONSGML v1.0//EN
CALSCALE:GREGORIAN
METHOD:PUBLISH
X-ORIGINAL-URL:https://trsu.ac.th
X-WR-CALDESC:Events for St Teresa International University
REFRESH-INTERVAL;VALUE=DURATION:PT1H
X-Robots-Tag:noindex
X-PUBLISHED-TTL:PT1H
BEGIN:VTIMEZONE
TZID:Asia/Krasnoyarsk
BEGIN:STANDARD
TZOFFSETFROM:+0700
TZOFFSETTO:+0700
TZNAME:+07
DTSTART:20250101T000000
END:STANDARD
TZID:UTC
BEGIN:STANDARD
TZOFFSETFROM:+0000
TZOFFSETTO:+0000
TZNAME:UTC
DTSTART:20210101T000000
END:STANDARD
END:VTIMEZONE
BEGIN:VEVENT
DTSTART;TZID=Asia/Krasnoyarsk:20250523T080000
DTEND;TZID=Asia/Krasnoyarsk:20250523T163000
DTSTAMP:20260423T161825
CREATED:20250514T045854Z
LAST-MODIFIED:20250514T060637Z
UID:9801-1747987200-1748017800@trsu.ac.th
SUMMARY:17TH TRSU SUMMER ENGLISH
DESCRIPTION:
URL:https://trsu.ac.th/event/17th-trsu-summer-english
CATEGORIES:Education Faculty Events
END:VEVENT
BEGIN:VEVENT
DTSTART;TZID=UTC:20250130T120000
DTEND;TZID=UTC:20250130T150000
DTSTAMP:20260423T161825
CREATED:20250129T043735Z
LAST-MODIFIED:20250129T043735Z
UID:9208-1738238400-1738249200@trsu.ac.th
SUMMARY:English on tour with Faculty of Education
DESCRIPTION:
URL:https://trsu.ac.th/event/english-on-tour-with-faculty-of-education
LOCATION:โรงเรียนบ้านลาดช้าง
CATEGORIES:Education Faculty Events
END:VEVENT
BEGIN:VEVENT
DTSTART;TZID=UTC:20211202T100000
DTEND;TZID=UTC:20211202T120000
DTSTAMP:20260423T161825
CREATED:20211127T085628Z
LAST-MODIFIED:20211127T090237Z
UID:7384-1638439200-1638446400@trsu.ac.th
SUMMARY:พิธีลงนามบันทึกความร่วมมือทางวิชาการ ระหว่างวิทยาลัยนานาชาติเซนต์เทเรซา กับ โรงเรียนเซนต์เทเรซา หัวหมาก
DESCRIPTION:
URL:https://trsu.ac.th/event/%e0%b8%9e%e0%b8%b4%e0%b8%98%e0%b8%b5%e0%b8%a5%e0%b8%87%e0%b8%99%e0%b8%b2%e0%b8%a1%e0%b8%9a%e0%b8%b1%e0%b8%99%e0%b8%97%e0%b8%b6%e0%b8%81%e0%b8%84%e0%b8%a7%e0%b8%b2%e0%b8%a1%e0%b8%a3%e0%b9%88%e0%b8%a7
LOCATION:Maria Therese Room
CATEGORIES:College Events,Education Faculty Events,President Office
END:VEVENT
BEGIN:VEVENT
DTSTART;TZID=UTC:20211130T080000
DTEND;TZID=UTC:20211130T170000
DTSTAMP:20260423T161825
CREATED:20211127T094038Z
LAST-MODIFIED:20211127T094038Z
UID:7394-1638259200-1638291600@trsu.ac.th
SUMMARY:การประเมินคุณภาพการศึกษาภายนอก รอบที่ 4 ปีการศึกษา 2559-2563 ผ่านระบบออนไลน์ โดยสำนักงานรับรองมาตรฐานและประเมินคุณภาพการศึกษา(องค์การมหาชน) -สมศ.
DESCRIPTION:
URL:https://trsu.ac.th/event/%e0%b8%81%e0%b8%b2%e0%b8%a3%e0%b8%9b%e0%b8%a3%e0%b8%b0%e0%b9%80%e0%b8%a1%e0%b8%b4%e0%b8%99%e0%b8%84%e0%b8%b8%e0%b8%93%e0%b8%a0%e0%b8%b2%e0%b8%9e%e0%b8%81%e0%b8%b2%e0%b8%a3%e0%b8%a8%e0%b8%b6%e0%b8%81-8
LOCATION:Saint Mary Buliding\, SMB-104 \, 1st floor
CATEGORIES:Business Administration Faculty Events,College Events,Education Faculty Events,Humanities & Social Science Faculty Events,Nursing Science Faculty Events,Public Health Faculty Events,Quality Assurance Events
END:VEVENT
BEGIN:VEVENT
DTSTART;TZID=UTC:20211113T090000
DTEND;TZID=UTC:20211113T160000
DTSTAMP:20260423T161825
CREATED:20211026T104947Z
LAST-MODIFIED:20211026T105327Z
UID:6793-1636794000-1636819200@trsu.ac.th
SUMMARY:Webinars- Showcase of Academic Products of Teachers
DESCRIPTION:The Project of producing teachers for local development; webinars- Showcase of academic products of teachers during the Induction period of the teacher profession \nสัมมนาเสนอผลงานครูในโครงการผลิตครูเพื่พัฒนาท้องถิ่น
URL:https://trsu.ac.th/event/6793
CATEGORIES:Education Faculty Events
END:VEVENT
BEGIN:VEVENT
DTSTART;TZID=UTC:20211109T120000
DTEND;TZID=UTC:20211109T150000
DTSTAMP:20260423T161825
CREATED:20211019T030942Z
LAST-MODIFIED:20211108T020044Z
UID:6667-1636459200-1636470000@trsu.ac.th
SUMMARY:1St KM Day 2021
DESCRIPTION:
URL:https://trsu.ac.th/event/1st-km-day-2021
LOCATION:Lobby of Administration Building
CATEGORIES:Academic Calendar,Business Administration Faculty Events,College Events,Education Faculty Events,Humanities & Social Science Faculty Events,Nursing Science Faculty Events,Public Health Faculty Events,Quality Assurance Events
END:VEVENT
BEGIN:VEVENT
DTSTART;TZID=UTC:20211105T100000
DTEND;TZID=UTC:20211105T100000
DTSTAMP:20260423T161825
CREATED:20211026T040422Z
LAST-MODIFIED:20211026T095040Z
UID:6743-1636106400-1636106400@trsu.ac.th
SUMMARY:Online seminars with Mentor Teachers of 4th-year students and 3rd-year students who are going to Practicum (Practicum II & Internship II) in primary and secondary schools
DESCRIPTION:
URL:https://trsu.ac.th/event/online-seminars-mentor-teachers-4th-year-students-3rd-year-students-going-practicum-practicum-ii-internship-ii-primary-secondary-schools-november-5-1030
LOCATION:Online\, Thailand
CATEGORIES:Education Faculty Events
END:VEVENT
BEGIN:VEVENT
DTSTART;TZID=UTC:20211104T130000
DTEND;TZID=UTC:20211104T150000
DTSTAMP:20260423T161825
CREATED:20211103T032753Z
LAST-MODIFIED:20211103T032753Z
UID:6804-1636030800-1636038000@trsu.ac.th
SUMMARY:Online seminars with Directors of schools under the project of U-SCHOOL MENTORING 2021
DESCRIPTION:
URL:https://trsu.ac.th/event/online-seminars-directors-schools-project-u-school-mentoring-2021
CATEGORIES:College Events,Education Faculty Events
END:VEVENT
BEGIN:VEVENT
DTSTART;TZID=UTC:20211103T140000
DTEND;TZID=UTC:20211103T150000
DTSTAMP:20260423T161825
CREATED:20211103T032435Z
LAST-MODIFIED:20211103T033125Z
UID:6803-1635948000-1635951600@trsu.ac.th
SUMMARY:Online seminars with Mentor Teachers of 5th-year students who are on the process of Internship II in primary and secondary schools
DESCRIPTION:
URL:https://trsu.ac.th/event/online-seminars-mentor-teachers-5th-year-students-process-internship-ii-primary-secondary-schools
CATEGORIES:College Events,Education Faculty Events
END:VEVENT
BEGIN:VEVENT
DTSTART;VALUE=DATE:20211028
DTEND;VALUE=DATE:20211030
DTSTAMP:20260423T161825
CREATED:20211026T040542Z
LAST-MODIFIED:20211026T110052Z
UID:6745-1635379200-1635551999@trsu.ac.th
SUMMARY:Knowledge Sharing (Online) about the Complete Google Classroom for the semester 2/2021; all day.
DESCRIPTION:every lecturer present of the Google Classrooms for Semester 2/2021
URL:https://trsu.ac.th/event/knowledge-sharing-online-seminar-complete-google-classroom-semester-22021-october-28-29-day
LOCATION:Online\, Thailand
CATEGORIES:Education Faculty Events
END:VEVENT
BEGIN:VEVENT
DTSTART;TZID=UTC:20211027T140000
DTEND;TZID=UTC:20211027T153000
DTSTAMP:20260423T161825
CREATED:20211026T040249Z
LAST-MODIFIED:20211026T095254Z
UID:6740-1635343200-1635348600@trsu.ac.th
SUMMARY:Online seminars with Mentor Teachers of Graduate diploma students (Batch 8\, Thai Program)\, from 2 pm-3:30 pm
DESCRIPTION:
URL:https://trsu.ac.th/event/online-seminars-mentor-teachers-graduate-diploma-students-batch-8-thai-program-october-27-2021-2-pm-330-pm
LOCATION:Online\, Thailand
CATEGORIES:Education Faculty Events
END:VEVENT
END:VCALENDAR