BEGIN:VCALENDAR
VERSION:2.0
PRODID:-//St Teresa International University - ECPv6.5.1.5//NONSGML v1.0//EN
CALSCALE:GREGORIAN
METHOD:PUBLISH
X-WR-CALNAME:St Teresa International University
X-ORIGINAL-URL:https://trsu.ac.th
X-WR-CALDESC:Events for St Teresa International University
REFRESH-INTERVAL;VALUE=DURATION:PT1H
X-Robots-Tag:noindex
X-PUBLISHED-TTL:PT1H
BEGIN:VTIMEZONE
TZID:UTC
BEGIN:STANDARD
TZOFFSETFROM:+0000
TZOFFSETTO:+0000
TZNAME:UTC
DTSTART:20220101T000000
END:STANDARD
END:VTIMEZONE
BEGIN:VEVENT
DTSTART;TZID=UTC:20220803T000000
DTEND;TZID=UTC:20220803T123000
DTSTAMP:20260421T174530
CREATED:20220801T073805Z
LAST-MODIFIED:20220801T073805Z
UID:7759-1659484800-1659529800@trsu.ac.th
SUMMARY:TOEIC Exhibition 2022
DESCRIPTION:TOEIC Exhibition 2022
URL:https://trsu.ac.th/event/toeic-exhibition-2022
LOCATION:Lobby of Administration Building
CATEGORIES:Humanities & Social Science Faculty Events
END:VEVENT
BEGIN:VEVENT
DTSTART;TZID=UTC:20220803T000000
DTEND;TZID=UTC:20220803T170000
DTSTAMP:20260421T174530
CREATED:20220801T074057Z
LAST-MODIFIED:20220801T074057Z
UID:7760-1659484800-1659546000@trsu.ac.th
SUMMARY:Moral & Ethic Development Project
DESCRIPTION:Moral & Ethic Development Project
URL:https://trsu.ac.th/event/moral-ethic-development-project
LOCATION:Joseph Marie Building\, Thailand
CATEGORIES:Humanities & Social Science Faculty Events
END:VEVENT
BEGIN:VEVENT
DTSTART;TZID=UTC:20220808T080000
DTEND;TZID=UTC:20220808T170000
DTSTAMP:20260421T174530
CREATED:20220801T074807Z
LAST-MODIFIED:20220801T074807Z
UID:7762-1659945600-1659978000@trsu.ac.th
SUMMARY:Study Visit Project (BE students visit business firms)
DESCRIPTION:Study Visit Project (BE students visit business firms) \nYear 1 and Year 2 at  Laem Chabang Port Customs Office\, On August 8\, 2022 (Monday) \n                     
URL:https://trsu.ac.th/event/study-visit-project-students-visit-business-firms
LOCATION:Laem Chabang Port Customs Office
CATEGORIES:Humanities & Social Science Faculty Events
END:VEVENT
BEGIN:VEVENT
DTSTART;TZID=UTC:20220811T143000
DTEND;TZID=UTC:20220811T153000
DTSTAMP:20260421T174530
CREATED:20220813T091953Z
LAST-MODIFIED:20220813T091953Z
UID:7771-1660228200-1660231800@trsu.ac.th
SUMMARY:Teacher's Appreciation Day 2022
DESCRIPTION:Teacher’s Appreciation Day 2022
URL:https://trsu.ac.th/event/teachers-appreciation-day-2022
LOCATION:Language and Arts Edifice
CATEGORIES:Humanities & Social Science Faculty Events
END:VEVENT
BEGIN:VEVENT
DTSTART;TZID=UTC:20220815T090000
DTEND;TZID=UTC:20220815T220000
DTSTAMP:20260421T174530
CREATED:20220816T063539Z
LAST-MODIFIED:20220816T063539Z
UID:7773-1660554000-1660600800@trsu.ac.th
SUMMARY:Talking With Alumni
DESCRIPTION:
URL:https://trsu.ac.th/event/talking-with-alumni
LOCATION:Language and Arts Edifice
CATEGORIES:Humanities & Social Science Faculty Events
END:VEVENT
BEGIN:VEVENT
DTSTART;TZID=UTC:20220824T150000
DTEND;TZID=UTC:20220824T160000
DTSTAMP:20260421T174530
CREATED:20220816T063722Z
LAST-MODIFIED:20220816T063722Z
UID:7774-1661353200-1661356800@trsu.ac.th
SUMMARY:Faculty Meeting 2/2022
DESCRIPTION:
URL:https://trsu.ac.th/event/faculty-meeting-22022
LOCATION:Room 316
CATEGORIES:Humanities & Social Science Faculty Events
END:VEVENT
BEGIN:VEVENT
DTSTART;TZID=UTC:20220825T060000
DTEND;TZID=UTC:20220825T150000
DTSTAMP:20260421T174530
CREATED:20220816T063858Z
LAST-MODIFIED:20220816T063858Z
UID:7775-1661407200-1661439600@trsu.ac.th
SUMMARY:Study Visit Project
DESCRIPTION:
URL:https://trsu.ac.th/event/study-visit-project
LOCATION:Nation TV
CATEGORIES:Humanities & Social Science Faculty Events
END:VEVENT
BEGIN:VEVENT
DTSTART;TZID=UTC:20220825T070000
DTEND;TZID=UTC:20220825T150000
DTSTAMP:20260421T174530
CREATED:20220816T064043Z
LAST-MODIFIED:20220816T064043Z
UID:7777-1661410800-1661439600@trsu.ac.th
SUMMARY:Study Visit Project
DESCRIPTION:
URL:https://trsu.ac.th/event/study-visit-project-2
LOCATION:Suvarnabhumi Airport Museum
CATEGORIES:Humanities & Social Science Faculty Events
END:VEVENT
END:VCALENDAR