BEGIN:VCALENDAR
VERSION:2.0
PRODID:-//St Teresa International University - ECPv6.5.1.5//NONSGML v1.0//EN
CALSCALE:GREGORIAN
METHOD:PUBLISH
X-ORIGINAL-URL:https://trsu.ac.th
X-WR-CALDESC:Events for St Teresa International University
REFRESH-INTERVAL;VALUE=DURATION:PT1H
X-Robots-Tag:noindex
X-PUBLISHED-TTL:PT1H
BEGIN:VTIMEZONE
TZID:UTC
BEGIN:STANDARD
TZOFFSETFROM:+0000
TZOFFSETTO:+0000
TZNAME:UTC
DTSTART:20220101T000000
END:STANDARD
END:VTIMEZONE
BEGIN:VEVENT
DTSTART;TZID=UTC:20221101T100000
DTEND;TZID=UTC:20221101T100000
DTSTAMP:20260421T132009
CREATED:20221028T065334Z
LAST-MODIFIED:20221028T065334Z
UID:7799-1667296800-1667296800@trsu.ac.th
SUMMARY:Visit the Museum
DESCRIPTION:
URL:https://trsu.ac.th/event/visit-the-museum
LOCATION:Bangkok Art & Culture Centre
CATEGORIES:Humanities & Social Science Faculty Events
END:VEVENT
BEGIN:VEVENT
DTSTART;TZID=UTC:20221102T100000
DTEND;TZID=UTC:20221102T170000
DTSTAMP:20260421T132009
CREATED:20221103T091705Z
LAST-MODIFIED:20221103T091705Z
UID:7815-1667383200-1667408400@trsu.ac.th
SUMMARY:กิจกรรมศึกษาดูงานผู้ผลิตงานด้านสื่อสารมวลชน กิจกรรมที่ 1 ดูงานพิพิธภัณฑ์ประวัติศาสตร์หอภาพยนตร์
DESCRIPTION:โครงการศึกษาดูงานผู้ผลิตงานด้านสื่อสารมวลชน\nกิจกรรมที่ 1 ดูงานพิพิธภัณฑ์ประวัติศาสตร์หอภาพยนตร์ \nสถานที่ หอภาพยนตร์(องค์การมหาชน) ศาลายา จ.นครปฐม \nวันพุธ ที่ 2 พฤศจิกายน 2565
URL:https://trsu.ac.th/event/%e0%b8%81%e0%b8%b4%e0%b8%88%e0%b8%81%e0%b8%a3%e0%b8%a3%e0%b8%a1%e0%b8%a8%e0%b8%b6%e0%b8%81%e0%b8%a9%e0%b8%b2%e0%b8%94%e0%b8%b9%e0%b8%87%e0%b8%b2%e0%b8%99%e0%b8%9c%e0%b8%b9%e0%b9%89%e0%b8%9c%e0%b8%a5
LOCATION:หอภาพยนตร์(องค์การมหาชน) ศาลายา จ.นครปฐม
CATEGORIES:Humanities & Social Science Faculty Events
END:VEVENT
BEGIN:VEVENT
DTSTART;TZID=UTC:20221115T130000
DTEND;TZID=UTC:20221115T170000
DTSTAMP:20260421T132009
CREATED:20221119T085403Z
LAST-MODIFIED:20221119T085403Z
UID:8018-1668517200-1668531600@trsu.ac.th
SUMMARY:Internship Visit 2022
DESCRIPTION:
URL:https://trsu.ac.th/event/internship-visit-2022
LOCATION:Online\, Thailand
CATEGORIES:Humanities & Social Science Faculty Events
END:VEVENT
BEGIN:VEVENT
DTSTART;TZID=UTC:20221116T133000
DTEND;TZID=UTC:20221116T163000
DTSTAMP:20260421T132009
CREATED:20221130T014823Z
LAST-MODIFIED:20221130T014823Z
UID:8025-1668605400-1668616200@trsu.ac.th
SUMMARY:ประชุมชี้แจงเกณฑ์มาตรฐานคุณภาพการศึกษา พ.ศ. 2565 ระดับหลักสูตร
DESCRIPTION:
URL:https://trsu.ac.th/event/%e0%b8%9b%e0%b8%a3%e0%b8%b0%e0%b8%8a%e0%b8%b8%e0%b8%a1%e0%b8%8a%e0%b8%b5%e0%b9%89%e0%b9%81%e0%b8%88%e0%b8%87%e0%b9%80%e0%b8%81%e0%b8%93%e0%b8%91%e0%b9%8c%e0%b8%a1%e0%b8%b2%e0%b8%95%e0%b8%a3%e0%b8%90
LOCATION:Room 316
CATEGORIES:Humanities & Social Science Faculty Events
END:VEVENT
BEGIN:VEVENT
DTSTART;TZID=UTC:20221122T130000
DTEND;TZID=UTC:20221122T170000
DTSTAMP:20260421T132009
CREATED:20221119T085505Z
LAST-MODIFIED:20221119T085505Z
UID:8019-1669122000-1669136400@trsu.ac.th
SUMMARY:Internship Visit 2022
DESCRIPTION:
URL:https://trsu.ac.th/event/internship-visit-2022-2
LOCATION:Online\, Thailand
CATEGORIES:Humanities & Social Science Faculty Events
END:VEVENT
BEGIN:VEVENT
DTSTART;TZID=UTC:20221129T010000
DTEND;TZID=UTC:20221129T170000
DTSTAMP:20260421T132009
CREATED:20221119T085604Z
LAST-MODIFIED:20221119T085604Z
UID:8020-1669683600-1669741200@trsu.ac.th
SUMMARY:Internship Visit 2022
DESCRIPTION:
URL:https://trsu.ac.th/event/internship-visit-2022-3
LOCATION:Online\, Thailand
CATEGORIES:Humanities & Social Science Faculty Events
END:VEVENT
BEGIN:VEVENT
DTSTART;TZID=UTC:20221130T133000
DTEND;TZID=UTC:20221130T163000
DTSTAMP:20260421T132009
CREATED:20221130T014931Z
LAST-MODIFIED:20221130T014931Z
UID:8026-1669815000-1669825800@trsu.ac.th
SUMMARY:New STIC Educational Quality Standard Criteria 2022 (Curriculum Level) Clarification
DESCRIPTION:
URL:https://trsu.ac.th/event/new-stic-educational-quality-standard-criteria-2022-curriculum-level-clarification
LOCATION:Room 316
CATEGORIES:Humanities & Social Science Faculty Events
END:VEVENT
END:VCALENDAR