BEGIN:VCALENDAR
VERSION:2.0
PRODID:-//St Teresa International University - ECPv6.5.1.5//NONSGML v1.0//EN
CALSCALE:GREGORIAN
METHOD:PUBLISH
X-ORIGINAL-URL:https://trsu.ac.th
X-WR-CALDESC:Events for St Teresa International University
REFRESH-INTERVAL;VALUE=DURATION:PT1H
X-Robots-Tag:noindex
X-PUBLISHED-TTL:PT1H
BEGIN:VTIMEZONE
TZID:UTC
BEGIN:STANDARD
TZOFFSETFROM:+0000
TZOFFSETTO:+0000
TZNAME:UTC
DTSTART:20230101T000000
END:STANDARD
END:VTIMEZONE
BEGIN:VEVENT
DTSTART;TZID=UTC:20230106T113000
DTEND;TZID=UTC:20230106T140000
DTSTAMP:20260421T055654
CREATED:20230103T015019Z
LAST-MODIFIED:20230103T015019Z
UID:8156-1673004600-1673013600@trsu.ac.th
SUMMARY:New Year's Party
DESCRIPTION:
URL:https://trsu.ac.th/event/new-years-party
LOCATION:St Christopher Sports Club
CATEGORIES:Humanities & Social Science Faculty Events
END:VEVENT
BEGIN:VEVENT
DTSTART;TZID=UTC:20230113T090000
DTEND;TZID=UTC:20230113T150000
DTSTAMP:20260421T055654
CREATED:20230124T092100Z
LAST-MODIFIED:20230124T092100Z
UID:8174-1673600400-1673622000@trsu.ac.th
SUMMARY:Internship Presentation
DESCRIPTION:
URL:https://trsu.ac.th/event/internship-presentation-2
LOCATION:Online\, Thailand
CATEGORIES:Humanities & Social Science Faculty Events
END:VEVENT
BEGIN:VEVENT
DTSTART;TZID=UTC:20230123T080000
DTEND;TZID=UTC:20230127T170000
DTSTAMP:20260421T055654
CREATED:20230120T043209Z
LAST-MODIFIED:20230120T043209Z
UID:8171-1674460800-1674838800@trsu.ac.th
SUMMARY:CA Showcase
DESCRIPTION:
URL:https://trsu.ac.th/event/ca-showcase
LOCATION:305-307
CATEGORIES:Humanities & Social Science Faculty Events
END:VEVENT
BEGIN:VEVENT
DTSTART;TZID=UTC:20230125T143000
DTEND;TZID=UTC:20230125T170000
DTSTAMP:20260421T055654
CREATED:20230124T092356Z
LAST-MODIFIED:20230124T092356Z
UID:8175-1674657000-1674666000@trsu.ac.th
SUMMARY:International Day
DESCRIPTION:
URL:https://trsu.ac.th/event/international-day
LOCATION:Joseph Marie Building\, Thailand
CATEGORIES:Humanities & Social Science Faculty Events
END:VEVENT
BEGIN:VEVENT
DTSTART;TZID=UTC:20230128T080000
DTEND;TZID=UTC:20230128T080000
DTSTAMP:20260421T055654
CREATED:20230304T013348Z
LAST-MODIFIED:20230304T013348Z
UID:8194-1674892800-1674892800@trsu.ac.th
SUMMARY:อบรมมารยาทไทย
DESCRIPTION:
URL:https://trsu.ac.th/event/%e0%b8%ad%e0%b8%9a%e0%b8%a3%e0%b8%a1%e0%b8%a1%e0%b8%b2%e0%b8%a3%e0%b8%a2%e0%b8%b2%e0%b8%97%e0%b9%84%e0%b8%97%e0%b8%a2
LOCATION:Joseph Marie Building\, Thailand
CATEGORIES:Humanities & Social Science Faculty Events
END:VEVENT
END:VCALENDAR