BEGIN:VCALENDAR
VERSION:2.0
PRODID:-//St Teresa International University - ECPv6.5.1.5//NONSGML v1.0//EN
CALSCALE:GREGORIAN
METHOD:PUBLISH
X-WR-CALNAME:St Teresa International University
X-ORIGINAL-URL:https://trsu.ac.th
X-WR-CALDESC:Events for St Teresa International University
REFRESH-INTERVAL;VALUE=DURATION:PT1H
X-Robots-Tag:noindex
X-PUBLISHED-TTL:PT1H
BEGIN:VTIMEZONE
TZID:UTC
BEGIN:STANDARD
TZOFFSETFROM:+0000
TZOFFSETTO:+0000
TZNAME:UTC
DTSTART:20230101T000000
END:STANDARD
END:VTIMEZONE
BEGIN:VEVENT
DTSTART;TZID=UTC:20230927T080000
DTEND;TZID=UTC:20231008T170000
DTSTAMP:20260420T112830
CREATED:20231006T020047Z
LAST-MODIFIED:20231006T020047Z
UID:8381-1695801600-1696784400@trsu.ac.th
SUMMARY:Semester Break
DESCRIPTION:
URL:https://trsu.ac.th/event/semester-break-2
LOCATION:St Theresa International College
CATEGORIES:Humanities & Social Science Faculty Events
END:VEVENT
BEGIN:VEVENT
DTSTART;TZID=UTC:20231006T080000
DTEND;TZID=UTC:20231006T110000
DTSTAMP:20260420T112830
CREATED:20231006T041122Z
LAST-MODIFIED:20231006T041122Z
UID:8384-1696579200-1696590000@trsu.ac.th
SUMMARY:Release Final Grades (Examination Office)
DESCRIPTION:
URL:https://trsu.ac.th/event/release-final-grades-examination-office
LOCATION:Room 221
CATEGORIES:Humanities & Social Science Faculty Events
END:VEVENT
BEGIN:VEVENT
DTSTART;TZID=UTC:20231009T080000
DTEND;TZID=UTC:20231009T170000
DTSTAMP:20260420T112830
CREATED:20231006T021619Z
LAST-MODIFIED:20231007T065602Z
UID:8382-1696838400-1696870800@trsu.ac.th
SUMMARY:Class Begins
DESCRIPTION:
URL:https://trsu.ac.th/event/class-bigin
LOCATION:St Theresa International College
CATEGORIES:Humanities & Social Science Faculty Events
END:VEVENT
BEGIN:VEVENT
DTSTART;TZID=UTC:20231012T100000
DTEND;TZID=UTC:20231012T110000
DTSTAMP:20260420T112830
CREATED:20231011T062420Z
LAST-MODIFIED:20231011T062420Z
UID:8390-1697104800-1697108400@trsu.ac.th
SUMMARY:HuSo : Faculty Meeting 2/2023
DESCRIPTION:
URL:https://trsu.ac.th/event/huso-faculty-meeting-22023
LOCATION:Room 221
CATEGORIES:Humanities & Social Science Faculty Events
END:VEVENT
BEGIN:VEVENT
DTSTART;TZID=UTC:20231025T114500
DTEND;TZID=UTC:20231025T133000
DTSTAMP:20260420T112830
CREATED:20231027T012152Z
LAST-MODIFIED:20231027T012152Z
UID:8423-1698234300-1698240600@trsu.ac.th
SUMMARY:1st KM’s Day 2023
DESCRIPTION:
URL:https://trsu.ac.th/event/1st-kms-day-2023
LOCATION:Lobby of Administration Building
CATEGORIES:Humanities & Social Science Faculty Events
END:VEVENT
BEGIN:VEVENT
DTSTART;TZID=UTC:20231030T130000
DTEND;TZID=UTC:20231030T170000
DTSTAMP:20260420T112830
CREATED:20231026T092651Z
LAST-MODIFIED:20231026T092651Z
UID:8421-1698670800-1698685200@trsu.ac.th
SUMMARY:"A Day 2 BE Excellent\, An Opportunity 2 BE 1"
DESCRIPTION:
URL:https://trsu.ac.th/event/day-2-excellent-opportunity-2-1
LOCATION:JMB Hall
CATEGORIES:Humanities & Social Science Faculty Events
END:VEVENT
END:VCALENDAR