BEGIN:VCALENDAR
VERSION:2.0
PRODID:-//St Teresa International University - ECPv6.5.1.5//NONSGML v1.0//EN
CALSCALE:GREGORIAN
METHOD:PUBLISH
X-ORIGINAL-URL:https://trsu.ac.th
X-WR-CALDESC:Events for St Teresa International University
REFRESH-INTERVAL;VALUE=DURATION:PT1H
X-Robots-Tag:noindex
X-PUBLISHED-TTL:PT1H
BEGIN:VTIMEZONE
TZID:UTC
BEGIN:STANDARD
TZOFFSETFROM:+0000
TZOFFSETTO:+0000
TZNAME:UTC
DTSTART:20220101T000000
END:STANDARD
END:VTIMEZONE
BEGIN:VEVENT
DTSTART;TZID=UTC:20220228T080000
DTEND;TZID=UTC:20220304T170000
DTSTAMP:20260422T110316
CREATED:20220222T010023Z
LAST-MODIFIED:20220222T063604Z
UID:7465-1646035200-1646413200@trsu.ac.th
SUMMARY:CA SHOWCASE 2022
DESCRIPTION:กลับมาอีกครั้งกับนิทรรศการแสดงผลงานของพวกเรากับ\n          CA SHOWCASE ON FIRE 2022!!!\n\nมาย้อนดูบรรยากาศงานเมื่อปีที่แล้วและมารอลุ้นกันว่าปีนี้ พวกเราจะมีอะไรมาโชว์!\n\n นิทรรศการแสดงผลงานรูปแบบออนไลน์ของนักศึกษาสาขาสื่อดิจิทัล วิทยาลัยนานาชาติเซนต์เทเรซา รวมมาให้แล้วกับสุดยอดผลงานที่ห้ามพลาดกันเด็fขาด\n\n– 3 ภาพยนตร์สั้นและซีรีส์ ผลงานธีสิสจากนักศึกษาชั้นปีที่ 4\n– ผลงานหนังสั้นสุดสร้างสรรค์ 15 วินาที\n– ผลงานเทคนิคการถ่ายทำด้วยเส้น 180 องศา\n– ผลงานสารคดี\n– ผลงานหนังสั้นรางวัล\nและอื่น ๆ ที่น่าสนใจอีกเพียบ!\n\n     พร้อมยังมีกิจกรรมให้ได้ร่วมสนุกเพื่อชิงของรางวัลพิเศษกันอีกด้วย\n\nอย่าลืมมาเจอกันล่ะ ติดตามไลฟ์สดจากพวกเราได้ทางเพจนี้\nเริ่ม 28 ก.พ – 4 มี.ค 2022\n\nผ่านแฟนเพจ Facebook | Digital Media : STIC\n\nแล้วเจอกัน!\n—————————————
URL:https://trsu.ac.th/event/ca-show
LOCATION:แฟนเพจ Facebook | Digital Media : STIC
CATEGORIES:Humanities & Social Science Faculty Events
END:VEVENT
END:VCALENDAR