BEGIN:VCALENDAR
VERSION:2.0
PRODID:-//St Teresa International University - ECPv6.5.1.5//NONSGML v1.0//EN
CALSCALE:GREGORIAN
METHOD:PUBLISH
X-WR-CALNAME:St Teresa International University
X-ORIGINAL-URL:https://trsu.ac.th
X-WR-CALDESC:Events for St Teresa International University
REFRESH-INTERVAL;VALUE=DURATION:PT1H
X-Robots-Tag:noindex
X-PUBLISHED-TTL:PT1H
BEGIN:VTIMEZONE
TZID:UTC
BEGIN:STANDARD
TZOFFSETFROM:+0000
TZOFFSETTO:+0000
TZNAME:UTC
DTSTART:20220101T000000
END:STANDARD
END:VTIMEZONE
BEGIN:VEVENT
DTSTART;TZID=UTC:20220331T060000
DTEND;TZID=UTC:20220331T180000
DTSTAMP:20260422T080758
CREATED:20220314T040447Z
LAST-MODIFIED:20220328T062529Z
UID:7544-1648706400-1648749600@trsu.ac.th
SUMMARY:โครงการศึกษาดูงานผู้ผลิตงานด้านสื่อสารมวลชน กิจกรรมที่ 2 ดูงานกองถ่าย
DESCRIPTION:โครงการศึกษาดูงานผู้ผลิตงานด้านสื่อสารมวลชน กิจกรรมที่ 2 ดูงานกองถ่าย \nสาขาวิชาสื่อดิจิทัล คณะมนุษยศาสตร์และสังคมศาสตร์ \nวันพฤหัสบดีที่ 31 มีนาคม 2565 เวลา 06.00-18.00 น. \nสถานที่  : อุทยานเฉลิมกาญจนา ซอย 13 บางศรีเมือง นนทบุรี \nhttps://goo.gl/maps/x1PhsbjuGQHepPBD6
URL:https://trsu.ac.th/event/%e0%b9%82%e0%b8%84%e0%b8%a3%e0%b8%87%e0%b8%81%e0%b8%b2%e0%b8%a3%e0%b8%a8%e0%b8%b6%e0%b8%81%e0%b8%a9%e0%b8%b2%e0%b8%94%e0%b8%b9%e0%b8%87%e0%b8%b2%e0%b8%99%e0%b8%9c%e0%b8%b9%e0%b9%89%e0%b8%9c%e0%b8%a5-2
LOCATION:อุทยานเฉลิมกาณจนาภิเษก
CATEGORIES:Humanities & Social Science Faculty Events
END:VEVENT
END:VCALENDAR