BEGIN:VCALENDAR
VERSION:2.0
PRODID:-//St Teresa International University - ECPv6.5.1.5//NONSGML v1.0//EN
CALSCALE:GREGORIAN
METHOD:PUBLISH
X-ORIGINAL-URL:https://trsu.ac.th
X-WR-CALDESC:Events for St Teresa International University
REFRESH-INTERVAL;VALUE=DURATION:PT1H
X-Robots-Tag:noindex
X-PUBLISHED-TTL:PT1H
BEGIN:VTIMEZONE
TZID:UTC
BEGIN:STANDARD
TZOFFSETFROM:+0000
TZOFFSETTO:+0000
TZNAME:UTC
DTSTART:20220101T000000
END:STANDARD
END:VTIMEZONE
BEGIN:VEVENT
DTSTART;TZID=UTC:20220401T143000
DTEND;TZID=UTC:20220401T150000
DTSTAMP:20260422T092627
CREATED:20220401T032147Z
LAST-MODIFIED:20220401T032147Z
UID:7630-1648823400-1648825200@trsu.ac.th
SUMMARY:Pretest Examination for IEP 2022
DESCRIPTION:Pretest Examination for IEP 2022 \nApril 1\, 2022 \n \nDetails of Pretest:\n\n1. Skills tested : Listening and reading comprehension\n2. Test format : multiple choices\, with 4 choices for each question\n3. Number of test questions : 20 each for listening and reading comprehension\n4. Test Duration : 30 minutes
URL:https://trsu.ac.th/event/pretest-examination-iep-2022
LOCATION:3rd floor\, Administration Building
CATEGORIES:Humanities & Social Science Faculty Events
END:VEVENT
END:VCALENDAR