BEGIN:VCALENDAR
VERSION:2.0
PRODID:-//St Teresa International University - ECPv6.5.1.5//NONSGML v1.0//EN
CALSCALE:GREGORIAN
METHOD:PUBLISH
X-WR-CALNAME:St Teresa International University
X-ORIGINAL-URL:https://trsu.ac.th
X-WR-CALDESC:Events for St Teresa International University
REFRESH-INTERVAL;VALUE=DURATION:PT1H
X-Robots-Tag:noindex
X-PUBLISHED-TTL:PT1H
BEGIN:VTIMEZONE
TZID:UTC
BEGIN:STANDARD
TZOFFSETFROM:+0000
TZOFFSETTO:+0000
TZNAME:UTC
DTSTART:20220101T000000
END:STANDARD
END:VTIMEZONE
BEGIN:VEVENT
DTSTART;TZID=UTC:20220406T012000
DTEND;TZID=UTC:20220406T134000
DTSTAMP:20260422T092518
CREATED:20220406T074855Z
LAST-MODIFIED:20220406T074855Z
UID:7675-1649208000-1649252400@trsu.ac.th
SUMMARY:Songkarn Day 2022
DESCRIPTION:Songkarn Day \nApril 6\, 2022
URL:https://trsu.ac.th/event/songkarn-day-2022
LOCATION:3rd floor\, Administration Building
CATEGORIES:Humanities & Social Science Faculty Events
END:VEVENT
END:VCALENDAR