BEGIN:VCALENDAR
VERSION:2.0
PRODID:-//St Teresa International University - ECPv6.5.1.5//NONSGML v1.0//EN
CALSCALE:GREGORIAN
METHOD:PUBLISH
X-WR-CALNAME:St Teresa International University
X-ORIGINAL-URL:https://trsu.ac.th
X-WR-CALDESC:Events for St Teresa International University
REFRESH-INTERVAL;VALUE=DURATION:PT1H
X-Robots-Tag:noindex
X-PUBLISHED-TTL:PT1H
BEGIN:VTIMEZONE
TZID:UTC
BEGIN:STANDARD
TZOFFSETFROM:+0000
TZOFFSETTO:+0000
TZNAME:UTC
DTSTART:20220101T000000
END:STANDARD
END:VTIMEZONE
BEGIN:VEVENT
DTSTART;TZID=UTC:20221207T010000
DTEND;TZID=UTC:20221207T170000
DTSTAMP:20260421T145920
CREATED:20221203T061426Z
LAST-MODIFIED:20221203T061426Z
UID:8064-1670374800-1670432400@trsu.ac.th
SUMMARY:Academic Service 2022
DESCRIPTION:
URL:https://trsu.ac.th/event/academic-service-2022
LOCATION:โรงเรียนบ้านคลองใหญ่
CATEGORIES:Humanities & Social Science Faculty Events
END:VEVENT
BEGIN:VEVENT
DTSTART;TZID=UTC:20221207T130000
DTEND;TZID=UTC:20221207T170000
DTSTAMP:20260421T145920
CREATED:20221203T061727Z
LAST-MODIFIED:20221203T061727Z
UID:8066-1670418000-1670432400@trsu.ac.th
SUMMARY:Academic Camp 2022
DESCRIPTION:
URL:https://trsu.ac.th/event/academic-camp-2022
LOCATION:โรงเรียนบ้านคลองใหญ่
CATEGORIES:Humanities & Social Science Faculty Events
END:VEVENT
BEGIN:VEVENT
DTSTART;TZID=UTC:20221207T133000
DTEND;TZID=UTC:20221207T163000
DTSTAMP:20260421T145920
CREATED:20221130T015033Z
LAST-MODIFIED:20221130T015033Z
UID:8027-1670419800-1670430600@trsu.ac.th
SUMMARY:ประชุมชี้แจงเกณฑ์มาตรฐานคุณภาพการศึกษา พ.ศ. 2565 ระดับคณะวิชา
DESCRIPTION:
URL:https://trsu.ac.th/event/%e0%b8%9b%e0%b8%a3%e0%b8%b0%e0%b8%8a%e0%b8%b8%e0%b8%a1%e0%b8%8a%e0%b8%b5%e0%b9%89%e0%b9%81%e0%b8%88%e0%b8%87%e0%b9%80%e0%b8%81%e0%b8%93%e0%b8%91%e0%b9%8c%e0%b8%a1%e0%b8%b2%e0%b8%95%e0%b8%a3%e0%b8%90-2
LOCATION:Room 316
CATEGORIES:Humanities & Social Science Faculty Events
END:VEVENT
END:VCALENDAR