BEGIN:VCALENDAR
VERSION:2.0
PRODID:-//St Teresa International University - ECPv6.5.1.5//NONSGML v1.0//EN
CALSCALE:GREGORIAN
METHOD:PUBLISH
X-ORIGINAL-URL:https://trsu.ac.th
X-WR-CALDESC:Events for St Teresa International University
REFRESH-INTERVAL;VALUE=DURATION:PT1H
X-Robots-Tag:noindex
X-PUBLISHED-TTL:PT1H
BEGIN:VTIMEZONE
TZID:UTC
BEGIN:STANDARD
TZOFFSETFROM:+0000
TZOFFSETTO:+0000
TZNAME:UTC
DTSTART:20220101T000000
END:STANDARD
END:VTIMEZONE
BEGIN:VEVENT
DTSTART;TZID=UTC:20221214T153000
DTEND;TZID=UTC:20221214T170000
DTSTAMP:20260421T152529
CREATED:20221213T034456Z
LAST-MODIFIED:20221213T034456Z
UID:8095-1671031800-1671037200@trsu.ac.th
SUMMARY:MIS Database Management
DESCRIPTION:
URL:https://trsu.ac.th/event/mis-database-management
LOCATION:Room 316
CATEGORIES:Humanities & Social Science Faculty Events
END:VEVENT
END:VCALENDAR