BEGIN:VCALENDAR
VERSION:2.0
PRODID:-//St Teresa International University - ECPv6.5.1.5//NONSGML v1.0//EN
CALSCALE:GREGORIAN
METHOD:PUBLISH
X-WR-CALNAME:St Teresa International University
X-ORIGINAL-URL:https://trsu.ac.th
X-WR-CALDESC:Events for St Teresa International University
REFRESH-INTERVAL;VALUE=DURATION:PT1H
X-Robots-Tag:noindex
X-PUBLISHED-TTL:PT1H
BEGIN:VTIMEZONE
TZID:UTC
BEGIN:STANDARD
TZOFFSETFROM:+0000
TZOFFSETTO:+0000
TZNAME:UTC
DTSTART:20230101T000000
END:STANDARD
END:VTIMEZONE
BEGIN:VEVENT
DTSTART;TZID=UTC:20230123T080000
DTEND;TZID=UTC:20230127T170000
DTSTAMP:20260421T115841
CREATED:20230120T043209Z
LAST-MODIFIED:20230120T043209Z
UID:8171-1674460800-1674838800@trsu.ac.th
SUMMARY:CA Showcase
DESCRIPTION:
URL:https://trsu.ac.th/event/ca-showcase
LOCATION:305-307
CATEGORIES:Humanities & Social Science Faculty Events
END:VEVENT
END:VCALENDAR