BEGIN:VCALENDAR
VERSION:2.0
PRODID:-//St Teresa International University - ECPv6.5.1.5//NONSGML v1.0//EN
CALSCALE:GREGORIAN
METHOD:PUBLISH
X-WR-CALNAME:St Teresa International University
X-ORIGINAL-URL:https://trsu.ac.th
X-WR-CALDESC:Events for St Teresa International University
REFRESH-INTERVAL;VALUE=DURATION:PT1H
X-Robots-Tag:noindex
X-PUBLISHED-TTL:PT1H
BEGIN:VTIMEZONE
TZID:UTC
BEGIN:STANDARD
TZOFFSETFROM:+0000
TZOFFSETTO:+0000
TZNAME:UTC
DTSTART:20230101T000000
END:STANDARD
END:VTIMEZONE
BEGIN:VEVENT
DTSTART;TZID=UTC:20230418T080000
DTEND;TZID=UTC:20230524T170000
DTSTAMP:20260421T021409
CREATED:20231006T014515Z
LAST-MODIFIED:20231006T014515Z
UID:8379-1681804800-1684947600@trsu.ac.th
SUMMARY:Intensive Course for New Students
DESCRIPTION:
URL:https://trsu.ac.th/event/intensive-course-new-students
LOCATION:St Theresa International College
CATEGORIES:Humanities & Social Science Faculty Events
END:VEVENT
END:VCALENDAR