BEGIN:VCALENDAR
VERSION:2.0
PRODID:-//St Teresa International University - ECPv6.5.1.5//NONSGML v1.0//EN
CALSCALE:GREGORIAN
METHOD:PUBLISH
X-WR-CALNAME:St Teresa International University
X-ORIGINAL-URL:https://trsu.ac.th
X-WR-CALDESC:Events for St Teresa International University
REFRESH-INTERVAL;VALUE=DURATION:PT1H
X-Robots-Tag:noindex
X-PUBLISHED-TTL:PT1H
BEGIN:VTIMEZONE
TZID:UTC
BEGIN:STANDARD
TZOFFSETFROM:+0000
TZOFFSETTO:+0000
TZNAME:UTC
DTSTART:20230101T000000
END:STANDARD
END:VTIMEZONE
BEGIN:VEVENT
DTSTART;TZID=UTC:20230908T080000
DTEND;TZID=UTC:20230908T160000
DTSTAMP:20260420T144552
CREATED:20230926T080633Z
LAST-MODIFIED:20230926T080633Z
UID:8365-1694160000-1694188800@trsu.ac.th
SUMMARY:C.A. : Study Visit : Cry Baby
DESCRIPTION:
URL:https://trsu.ac.th/event/c-study-visit-cry-baby
LOCATION:River City
CATEGORIES:Humanities & Social Science Faculty Events
END:VEVENT
END:VCALENDAR