BEGIN:VCALENDAR
VERSION:2.0
PRODID:-//St Teresa International University - ECPv6.5.1.5//NONSGML v1.0//EN
CALSCALE:GREGORIAN
METHOD:PUBLISH
X-WR-CALNAME:St Teresa International University
X-ORIGINAL-URL:https://trsu.ac.th
X-WR-CALDESC:Events for St Teresa International University
REFRESH-INTERVAL;VALUE=DURATION:PT1H
X-Robots-Tag:noindex
X-PUBLISHED-TTL:PT1H
BEGIN:VTIMEZONE
TZID:UTC
BEGIN:STANDARD
TZOFFSETFROM:+0000
TZOFFSETTO:+0000
TZNAME:UTC
DTSTART:20240101T000000
END:STANDARD
END:VTIMEZONE
BEGIN:VEVENT
DTSTART;TZID=UTC:20240108T083000
DTEND;TZID=UTC:20240108T230000
DTSTAMP:20260420T041755
CREATED:20240127T060805Z
LAST-MODIFIED:20240127T060805Z
UID:8930-1704702600-1704754800@trsu.ac.th
SUMMARY:BE-Internship Presentation (Online)
DESCRIPTION:
URL:https://trsu.ac.th/event/be-internship-presentation-online
LOCATION:Online\, Thailand
CATEGORIES:Humanities & Social Science Faculty Events
END:VEVENT
END:VCALENDAR