BEGIN:VCALENDAR
VERSION:2.0
PRODID:-//St Teresa International University - ECPv6.5.1.5//NONSGML v1.0//EN
CALSCALE:GREGORIAN
METHOD:PUBLISH
X-WR-CALNAME:St Teresa International University
X-ORIGINAL-URL:https://trsu.ac.th
X-WR-CALDESC:Events for St Teresa International University
REFRESH-INTERVAL;VALUE=DURATION:PT1H
X-Robots-Tag:noindex
X-PUBLISHED-TTL:PT1H
BEGIN:VTIMEZONE
TZID:UTC
BEGIN:STANDARD
TZOFFSETFROM:+0000
TZOFFSETTO:+0000
TZNAME:UTC
DTSTART:20210101T000000
END:STANDARD
END:VTIMEZONE
BEGIN:VEVENT
DTSTART;TZID=UTC:20220215T144500
DTEND;TZID=UTC:20220215T170000
DTSTAMP:20260420T180447
CREATED:20220219T051009Z
LAST-MODIFIED:20220219T051044Z
UID:7462-1644936300-1644944400@trsu.ac.th
SUMMARY:HuSo English Showcase
DESCRIPTION:On February 15 2022 (14.45-17.00) at Language and Arts Edifice we have the project “HuSo English Showcase” \n– The grand opening of the Language and Arts Edifice of the Faculty of Humanities and Social Sciences was officially inaugurated by Dr. Ubon\, the Faculty Dean.\n– “An Array of English Language Skills” was displayed by our excellent students and was enthusiastically witnessed by our audience members.\n– There were love poetry recital\, power point presentations\, motivational/inspirational speech\, skit\, song and dance performances\, deejay presentation\, video presentations\, news reporting\, etc.
URL:https://trsu.ac.th/event/7462
LOCATION:3rd floor\, Administration Building
CATEGORIES:Humanities & Social Science Faculty Events
END:VEVENT
BEGIN:VEVENT
DTSTART;TZID=UTC:20220205T080000
DTEND;TZID=UTC:20220206T170000
DTSTAMP:20260420T180447
CREATED:20220302T093300Z
LAST-MODIFIED:20220302T093300Z
UID:7501-1644048000-1644166800@trsu.ac.th
SUMMARY:อบรม "จริยธรรมการวิจัยในมนุษย์ สำหรับอาจารย์และนักวิจัย"
DESCRIPTION:อบรม “จิยธรรมการวิจัยในมนุาย์ สำหรับอาจารย์และนักวิจัย” ในรูปแบบออนไลน์ ผ่านระบบการประชุมออนไลน์ Zoom Meeting ในวันที่ 5-6 กุมภาพันธ์ 2565 จัดโดยสถาบันวิจัยและส่งเสริมศิลปวัฒนธรรม มหาวิทยาลัยราชภัฏเพชรบุรี
URL:https://trsu.ac.th/event/%e0%b8%ad%e0%b8%9a%e0%b8%a3%e0%b8%a1-%e0%b8%88%e0%b8%a3%e0%b8%b4%e0%b8%a2%e0%b8%98%e0%b8%a3%e0%b8%a3%e0%b8%a1%e0%b8%81%e0%b8%b2%e0%b8%a3%e0%b8%a7%e0%b8%b4%e0%b8%88%e0%b8%b1%e0%b8%a2%e0%b9%83%e0%b8%99
LOCATION:Online\, Thailand
CATEGORIES:Humanities & Social Science Faculty Events
END:VEVENT
BEGIN:VEVENT
DTSTART;TZID=UTC:20220204T130000
DTEND;TZID=UTC:20220204T170000
DTSTAMP:20260420T180447
CREATED:20220222T065919Z
LAST-MODIFIED:20220222T065919Z
UID:7470-1643979600-1643994000@trsu.ac.th
SUMMARY:โครงการสัมมานาผู้เชี่ยวชาญด้านนิเทศศาสตร์ : คุยกับผู้กำกับโฆษณา
DESCRIPTION:โครงการสัมมนาผู้เชี่ยวชาญด้านนิเทศศาสตร์\nกิจกรรมคุยกับผู้กำกับโฆษณา\nสาขาวิชาสื่อดิจิทัล คณะมนุษยศาสตร์และสังคมศาสตร์\nวันศุกร์ที่ 4 กุมภาพันธ์ 2565 เวลา 13.00-17.00 น.\nณ ห้อง 305 ชั้น 3 สาขาวิชาสื่อดิจิทัล\nกำหนดการ กิจกรรม\n13.00-13.15 น.                      ลงทะเบียน\n13.15-15.00 น.                      การบรรยายพิเศษ หัวข้อ “หนทางสู่ ผู้กากับโฆษณา ไม่ยาก หากเข้าใจ”\nโดย คุณฉ่อย สิทธิชัย ฉุดศิริ\n– หนทางสู่การเป็นผู้กำกับโฆษณา\n– ค้นหาลายเซ็นต์ในงานโฆษณา\n– เปลี่ยนความยากในการเป็นผู้กำกับโฆษณาด้วยความเข้าใจ\n15.00-15.15 น.                      พักเบรค\n15.15-16.45 น.                     การเสวนา หัวข้อ “การกากับการแสดงในงานโฆษณา”\nโดย คุณฉ่อย สิทธิชัย ฉุดศิริ\n– การแสดงในงานโฆษณาแตกต่างจากการแสดงรูปแบบอื่นอย่างไร\n– ความสาคัญของการแคสติ้ง และเทคนิคการแคสให้โดนใจ\n– Q&A\n16.45-17.00 น.                    ทำแบบสอบถาม\nหมายเหตุ 1. กาหนดการอาจเปลี่ยนแปลงได้ตามความเหมาะสม\n2. ผู้เข้าร่วมโครงการ แสดงผลตรวจ ATK ภายใน 72 ชั่วโมง
URL:https://trsu.ac.th/event/%e0%b9%82%e0%b8%84%e0%b8%a3%e0%b8%87%e0%b8%81%e0%b8%b2%e0%b8%a3%e0%b8%aa%e0%b8%b1%e0%b8%a1%e0%b8%a1%e0%b8%b2%e0%b8%99%e0%b8%b2%e0%b8%9c%e0%b8%b9%e0%b9%89%e0%b9%80%e0%b8%8a%e0%b8%b5%e0%b9%88%e0%b8%a2
LOCATION:ห้อง 305
CATEGORIES:Humanities & Social Science Faculty Events
END:VEVENT
BEGIN:VEVENT
DTSTART;TZID=UTC:20220202T130000
DTEND;TZID=UTC:20220202T170000
DTSTAMP:20260420T180447
CREATED:20220222T065526Z
LAST-MODIFIED:20220222T070011Z
UID:7468-1643806800-1643821200@trsu.ac.th
SUMMARY:โครงการสัมมนาผู้เชี่ยวชาญด้านนิเทศศาสตร์:บทบาทผู้ผลิตสื่อ
DESCRIPTION:โครงการสัมมนาผู้เชี่ยวชาญด้านนิเทศศาสตร์\nกิจกรรม บทบาทผู้ผลิตสื่อ\nจัดโดย สาขาวิชาสื่อดิจิทัล คณะมนุษยศาสตร์และสังคมศาสตร์\nวันพุธที่ 2 กุมภาพันธ์ 2565 เวลา 13.00-17.00 น.\nณ ห้อง 305 ชั้น 3 สาขาวิชาสื่อดิจิทัล\nกำหนดการ กิจกรรม\n13.00-13.15 น.            ลงทะเบียน\n13.15-15.00 น.            การเสวนา หัวข้อ กว่าจะมาเป็น “ฟิตมิตรด้าม”\nโดย มิตร โมชดารา (ฟิตมิตรด้าม) และ ปริศนา กัมพูสิริ (ผู้ดาเนินรายการ)\n15.00-15.15 น.            พักเบรค\n15.15-16.45 น.            การบรรยายพิเศษ หัวข้อ “Influencer” บทบาทผู้ผลิตสื่อยุคใหม่\nโดย มิตร โมชดารา (ฟิตมิตรด้าม)\n– เปิดรายได้จากการเป็น influencer\n– เคล็ดลับสร้างยอดผู้ติดตาม\n– หนทางสู่การสร้างคอนเทนต์ที่ใช่\n– สิ่งที่ฟิตมิตรด้ามอยากฝากถึงคนรุ่นใหม่\n– Q&A\n16.45-17.00 น.         ทำแบบสอบถาม\nหมายเหตุ 1. กำหนดการอาจเปลี่ยนแปลงได้ตามความเหมาะสม\n2. ผู้เข้าร่วมโครงการ แสดงผลตรวจ ATK ภายใน 72 ชั่วโมง\n– –
URL:https://trsu.ac.th/event/%e0%b9%82%e0%b8%84%e0%b8%a3%e0%b8%87%e0%b8%81%e0%b8%b2%e0%b8%a3%e0%b8%aa%e0%b8%b1%e0%b8%a1%e0%b8%a1%e0%b8%99%e0%b8%b2%e0%b8%9c%e0%b8%b9%e0%b9%89%e0%b9%80%e0%b8%8a%e0%b8%b5%e0%b9%88%e0%b8%a2%e0%b8%a7-2
LOCATION:ห้อง 305
CATEGORIES:Humanities & Social Science Faculty Events
END:VEVENT
BEGIN:VEVENT
DTSTART;TZID=UTC:20220201T100000
DTEND;TZID=UTC:20220201T110000
DTSTAMP:20260420T180447
CREATED:20220222T015626Z
LAST-MODIFIED:20220308T042321Z
UID:7467-1643709600-1643713200@trsu.ac.th
SUMMARY:Post Training Academic Year 2021
DESCRIPTION:Post Training Academic Year 2021 \nFaculty of Humanities and Social sciences \n10AM | February 1\, 2022 | Tuesday \nOnline Google Meet : xqw-dfhy-khs \n 
URL:https://trsu.ac.th/event/post-training-academic-year-2022
LOCATION:Online\, Thailand
CATEGORIES:Humanities & Social Science Faculty Events
END:VEVENT
BEGIN:VEVENT
DTSTART;TZID=UTC:20220128T100000
DTEND;TZID=UTC:20220128T170000
DTSTAMP:20260420T180447
CREATED:20220110T024156Z
LAST-MODIFIED:20220219T051919Z
UID:7417-1643364000-1643389200@trsu.ac.th
SUMMARY:โครงการสัมมนาผู้เชี่ยวชาญด้านนิเทศศาสตร์ กิจกรรมที่ 3 การอบรมเชิงปฏิบัติการการถ่ายทอดสด ผ่านระบบสตรีมมิ่ง
DESCRIPTION:โครงการสัมมนาผู้เชี่ยวชาญด้านนิเทศศาสตร์\nกิจกรรมที่ 3 การอบรมเชิงปฏิบัติการการถ่ายทอดสดผ่านระบบสตรีมมิ่ง \nวิทยากร : DHANUS SAMSEN \nผู้รับผิดชอบโครงการ/ผู้ดำเนินการ : อาจารย์คมสัน สืบแสง และอาจารย์ปริศนา กัมพูสิริ \nวันพุธที่ 28 มกราคม 2565 เวลา 10.00-17.00 น.\nณ ห้อง 305 ชั้น 3 สาขาวิชาสื่อดิจิทัล \n 
URL:https://trsu.ac.th/event/%e0%b9%82%e0%b8%84%e0%b8%a3%e0%b8%87%e0%b8%81%e0%b8%b2%e0%b8%a3%e0%b8%aa%e0%b8%b1%e0%b8%a1%e0%b8%a1%e0%b8%99%e0%b8%b2%e0%b8%9c%e0%b8%b9%e0%b9%89%e0%b9%80%e0%b8%8a%e0%b8%b5%e0%b9%88%e0%b8%a2%e0%b8%a7
LOCATION:ห้อง 305
CATEGORIES:Humanities & Social Science Faculty Events
END:VEVENT
BEGIN:VEVENT
DTSTART;TZID=UTC:20220126T130000
DTEND;TZID=UTC:20220126T150000
DTSTAMP:20260420T180447
CREATED:20220303T030531Z
LAST-MODIFIED:20220303T030531Z
UID:7510-1643202000-1643209200@trsu.ac.th
SUMMARY:Academic Camp & Academic Service 2021
DESCRIPTION:Academic Camp & Academic Service 2021 \nOn January 26\,2022 the Faculty of Humanities and Social Sciences will organize activities Academic Camp & Academic Service 2021 at Christa Songkroh School \nTopic “Fix Me\, Make Me Right” activity’s primary objective which was: to develop elementary-school students’ sentence building skills in English by:\n1. enhancing their grammar stock knowledge that is a vital part in completing the designed activities 2. promoting language creativity and critical thinking\n3. stimulating teamwork skill in accomplishing group tasks\n4. refreshing their English language proficiency
URL:https://trsu.ac.th/event/academic-camp-academic-service-2021
LOCATION:Christa Songkroh School
CATEGORIES:Humanities & Social Science Faculty Events
END:VEVENT
BEGIN:VEVENT
DTSTART;TZID=UTC:20220118T080000
DTEND;TZID=UTC:20220118T170000
DTSTAMP:20260420T180447
CREATED:20220110T023518Z
LAST-MODIFIED:20220110T023518Z
UID:7416-1642492800-1642525200@trsu.ac.th
SUMMARY:Internship Presentation
DESCRIPTION:Tuesday\, Jan 18\, 2022\nInternship presentation online\, (morning and afternoon sessions)
URL:https://trsu.ac.th/event/internship-presentation
LOCATION:Online\, Thailand
CATEGORIES:Humanities & Social Science Faculty Events
END:VEVENT
BEGIN:VEVENT
DTSTART;TZID=UTC:20220115T080000
DTEND;TZID=UTC:20220115T080000
DTSTAMP:20260420T180447
CREATED:20220110T023320Z
LAST-MODIFIED:20220110T023320Z
UID:7415-1642233600-1642233600@trsu.ac.th
SUMMARY:TOEIC (ENGLISH EXIT EXAM)
DESCRIPTION:การจัดสอบ TOEIC สำหรับนักศึกษาชั้นปีที่ 4\nวันเสาร์ที่ 15 มกราคม 2565 \nเวลา 08.00 น. เป็นต้นไป \nสถานที่ อาคาร JMB
URL:https://trsu.ac.th/event/toeic-english-exit-exam
LOCATION:Joseph Marie Building\, Thailand
CATEGORIES:Humanities & Social Science Faculty Events
END:VEVENT
BEGIN:VEVENT
DTSTART;TZID=UTC:20220113T130000
DTEND;TZID=UTC:20220113T170000
DTSTAMP:20260420T180447
CREATED:20220110T020419Z
LAST-MODIFIED:20220110T020419Z
UID:7413-1642078800-1642093200@trsu.ac.th
SUMMARY:"Moodle for Teacher"
DESCRIPTION:On Thursday 13/01/22 13:00-17:00 at 312 we have seminar\n“Moodle for Teacher” (Host by humanities faculty.)\n– Activities / Assignments\n– How to make a quizzes (MCQ / Essay / Import / Shuffles)\n– How to grade / mark / export\n– How to preview answers.\n– Q & A\n* * * Hand on Labs * * * (Seat Limited)\n== Thai / English == \n\nMy private moodle traning class SETUP & RUN for all teachers (free access in thai)
URL:https://trsu.ac.th/event/moodle-for-teacher
LOCATION:Room 312
CATEGORIES:Humanities & Social Science Faculty Events
END:VEVENT
BEGIN:VEVENT
DTSTART;TZID=UTC:20220112T150000
DTEND;TZID=UTC:20220112T170000
DTSTAMP:20260420T180447
CREATED:20220110T015830Z
LAST-MODIFIED:20220110T015830Z
UID:7412-1641999600-1642006800@trsu.ac.th
SUMMARY:Seminar/training "Using the ePortfolio as an Assessment Tool"
DESCRIPTION:Please be informed that we will have an online seminar/training on Wednesday\, 12 January 2022 at 3 PM.( Meet-gzj-quyk-skb). \nTopic: Using the ePortfolio as an Assessment Tool \nSpeaker: Dr.Mark Pa-alisbo \nEveryone is invited to\njoin the said seminar as part of our Faculty project. \nThank you very much.
URL:https://trsu.ac.th/event/seminartraining-using-eportfolio-assessment-tool
LOCATION:Online\, Thailand
CATEGORIES:Humanities & Social Science Faculty Events
END:VEVENT
BEGIN:VEVENT
DTSTART;TZID=UTC:20211221T100000
DTEND;TZID=UTC:20211221T233000
DTSTAMP:20260420T180447
CREATED:20220303T014431Z
LAST-MODIFIED:20220303T014431Z
UID:7509-1640080800-1640129400@trsu.ac.th
SUMMARY:BE Internship Visit 2021
DESCRIPTION:BE Internship Visit 2021 \n \nDecember 21\, 2021 \n10.00 am.   At Coach \n\nNilobol\n\n10.30 am. At Ubonrachathani International Airport \n\nSasina\nJanya\n\n11.00 am. At EVEandBOY \n\nKamolchanok
URL:https://trsu.ac.th/event/internship-visit-2021-6
LOCATION:Online\, Thailand
CATEGORIES:Humanities & Social Science Faculty Events
END:VEVENT
BEGIN:VEVENT
DTSTART;TZID=UTC:20211220T130000
DTEND;TZID=UTC:20211220T160000
DTSTAMP:20260420T180447
CREATED:20220303T014154Z
LAST-MODIFIED:20220303T014154Z
UID:7508-1640005200-1640016000@trsu.ac.th
SUMMARY:BE Internship Visit 2021
DESCRIPTION:BE Internship Visit 2021 \n \nDecember 20\, 2021 \n1.00 pm.   At Etigo \n\nSujira\n\n1.30 pm. At Novotel \n\nParichat\nCheewaporn\n\n2.30 pm. At GT Aerospace \n\nWaraporn\nRuethairat\n\n3.30 pm. At The Way Communication \n\nTanchanok\nSiriyakorn
URL:https://trsu.ac.th/event/internship-visit-2021-5
LOCATION:Online\, Thailand
CATEGORIES:Humanities & Social Science Faculty Events
END:VEVENT
BEGIN:VEVENT
DTSTART;TZID=UTC:20211215T130000
DTEND;TZID=UTC:20211215T133000
DTSTAMP:20260420T180447
CREATED:20220303T013751Z
LAST-MODIFIED:20220303T013751Z
UID:7507-1639573200-1639575000@trsu.ac.th
SUMMARY:BE Internship Visit 2021
DESCRIPTION:BE Internship Visit 2021 \n \nDecember 15\, 2021 \n1.00 pm.   At Novotel \n\nPhattharawadee
URL:https://trsu.ac.th/event/internship-visit-2021-4
LOCATION:Online\, Thailand
CATEGORIES:Humanities & Social Science Faculty Events
END:VEVENT
BEGIN:VEVENT
DTSTART;TZID=UTC:20211214T110000
DTEND;TZID=UTC:20211214T233000
DTSTAMP:20260420T180447
CREATED:20220303T013554Z
LAST-MODIFIED:20220303T013554Z
UID:7506-1639479600-1639524600@trsu.ac.th
SUMMARY:BE Internship Visit 2021
DESCRIPTION:BE Internship Visit 2021 \n \nDecember 14\, 2021 \n11.00 am.   At International education Exchange Thailand \n\nNatdanai\n\n 
URL:https://trsu.ac.th/event/internship-visit-2021-3
LOCATION:Online\, Thailand
CATEGORIES:Humanities & Social Science Faculty Events
END:VEVENT
BEGIN:VEVENT
DTSTART;TZID=UTC:20211213T130000
DTEND;TZID=UTC:20211213T150000
DTSTAMP:20260420T180447
CREATED:20220303T013321Z
LAST-MODIFIED:20220303T013321Z
UID:7505-1639400400-1639407600@trsu.ac.th
SUMMARY:BE Internship Visit 2021
DESCRIPTION:BE Internship Visit 2021 \n \nDecember 13\, 2021 \n1.00 pm.   At Santa Care \n\nNaphatcharin\n\n1.30  pm.  At Awot Global logistics \n\nChanoz\n\n3.30 pm. At SME Shipping \n\nFasai\nPiyathida
URL:https://trsu.ac.th/event/internship-visit-2021-2
LOCATION:Online\, Thailand
CATEGORIES:Humanities & Social Science Faculty Events
END:VEVENT
BEGIN:VEVENT
DTSTART;TZID=UTC:20211207T100000
DTEND;TZID=UTC:20211207T140000
DTSTAMP:20260420T180447
CREATED:20220303T013016Z
LAST-MODIFIED:20220303T013016Z
UID:7504-1638871200-1638885600@trsu.ac.th
SUMMARY:BE Internship Visit 2021
DESCRIPTION:BE Internship Visit 2021 \n \nDecember 7\, 2021 \n10.00 am.   At True Corporation.\,Co.Ltd \n\nJarawee\nSaowalak\nWarangkana\n\n1.00  pm.  At Southeast Asian Ministers of Education Organization(SEAMEO) \n\nJanjira\nPiyathida\nAiya\n\n2.00 pm. At Koliet \n\nAorathai
URL:https://trsu.ac.th/event/internship-visit-2021
LOCATION:Online\, Thailand
CATEGORIES:Humanities & Social Science Faculty Events
END:VEVENT
BEGIN:VEVENT
DTSTART;TZID=UTC:20211130T080000
DTEND;TZID=UTC:20211130T170000
DTSTAMP:20260420T180447
CREATED:20211127T094038Z
LAST-MODIFIED:20211127T094038Z
UID:7394-1638259200-1638291600@trsu.ac.th
SUMMARY:การประเมินคุณภาพการศึกษาภายนอก รอบที่ 4 ปีการศึกษา 2559-2563 ผ่านระบบออนไลน์ โดยสำนักงานรับรองมาตรฐานและประเมินคุณภาพการศึกษา(องค์การมหาชน) -สมศ.
DESCRIPTION:
URL:https://trsu.ac.th/event/%e0%b8%81%e0%b8%b2%e0%b8%a3%e0%b8%9b%e0%b8%a3%e0%b8%b0%e0%b9%80%e0%b8%a1%e0%b8%b4%e0%b8%99%e0%b8%84%e0%b8%b8%e0%b8%93%e0%b8%a0%e0%b8%b2%e0%b8%9e%e0%b8%81%e0%b8%b2%e0%b8%a3%e0%b8%a8%e0%b8%b6%e0%b8%81-8
LOCATION:Saint Mary Buliding\, SMB-104 \, 1st floor
CATEGORIES:Business Administration Faculty Events,College Events,Education Faculty Events,Humanities & Social Science Faculty Events,Nursing Science Faculty Events,Public Health Faculty Events,Quality Assurance Events
END:VEVENT
BEGIN:VEVENT
DTSTART;TZID=UTC:20211127T080000
DTEND;TZID=UTC:20211127T170000
DTSTAMP:20260420T180447
CREATED:20211109T025737Z
LAST-MODIFIED:20211109T025737Z
UID:6768-1638000000-1638032400@trsu.ac.th
SUMMARY:การจัดสอบ Real TOEIC สำหรับนักศึกษาชั้นปีที่ 4
DESCRIPTION:
URL:https://trsu.ac.th/event/%e0%b8%81%e0%b8%b2%e0%b8%a3%e0%b8%88%e0%b8%b1%e0%b8%94%e0%b8%aa%e0%b8%ad%e0%b8%9a-real-toeic-%e0%b8%aa%e0%b8%b3%e0%b8%ab%e0%b8%a3%e0%b8%b1%e0%b8%9a%e0%b8%99%e0%b8%b1%e0%b8%81%e0%b8%a8%e0%b8%b6-3
LOCATION:Joseph Maria Building & St Mary Building
CATEGORIES:Humanities & Social Science Faculty Events
END:VEVENT
BEGIN:VEVENT
DTSTART;TZID=UTC:20211115T140000
DTEND;TZID=UTC:20211115T160000
DTSTAMP:20260420T180447
CREATED:20211109T030105Z
LAST-MODIFIED:20211109T030105Z
UID:6818-1636984800-1636992000@trsu.ac.th
SUMMARY:โครงการศึกษาดูงานผู้ผลิตงานด้านสื่อสารมวลชน กิจกรรม:ดูงานไทยทีวีสีช่อง 3
DESCRIPTION:
URL:https://trsu.ac.th/event/%e0%b9%82%e0%b8%84%e0%b8%a3%e0%b8%87%e0%b8%81%e0%b8%b2%e0%b8%a3%e0%b8%a8%e0%b8%b6%e0%b8%81%e0%b8%a9%e0%b8%b2%e0%b8%94%e0%b8%b9%e0%b8%87%e0%b8%b2%e0%b8%99%e0%b8%9c%e0%b8%b9%e0%b9%89%e0%b8%9c%e0%b8%a5
LOCATION:Online\, Thailand
CATEGORIES:Humanities & Social Science Faculty Events
END:VEVENT
BEGIN:VEVENT
DTSTART;TZID=UTC:20211109T120000
DTEND;TZID=UTC:20211109T150000
DTSTAMP:20260420T180447
CREATED:20211019T030942Z
LAST-MODIFIED:20211108T020044Z
UID:6667-1636459200-1636470000@trsu.ac.th
SUMMARY:1St KM Day 2021
DESCRIPTION:
URL:https://trsu.ac.th/event/1st-km-day-2021
LOCATION:Lobby of Administration Building
CATEGORIES:Academic Calendar,Business Administration Faculty Events,College Events,Education Faculty Events,Humanities & Social Science Faculty Events,Nursing Science Faculty Events,Public Health Faculty Events,Quality Assurance Events
END:VEVENT
BEGIN:VEVENT
DTSTART;TZID=UTC:20211016T080000
DTEND;TZID=UTC:20211016T080000
DTSTAMP:20260420T180447
CREATED:20211026T084337Z
LAST-MODIFIED:20211026T084337Z
UID:6766-1634371200-1634371200@trsu.ac.th
SUMMARY:การจัดสอบ Real TOEIC สำหรับนักศึกษาชั้นปีที่ 4
DESCRIPTION:
URL:https://trsu.ac.th/event/%e0%b8%81%e0%b8%b2%e0%b8%a3%e0%b8%88%e0%b8%b1%e0%b8%94%e0%b8%aa%e0%b8%ad%e0%b8%9a-real-toeic-%e0%b8%aa%e0%b8%b3%e0%b8%ab%e0%b8%a3%e0%b8%b1%e0%b8%9a%e0%b8%99%e0%b8%b1%e0%b8%81%e0%b8%a8%e0%b8%b6-2
LOCATION:Joseph Maria Building & St Mary Building
CATEGORIES:Humanities & Social Science Faculty Events
END:VEVENT
BEGIN:VEVENT
DTSTART;TZID=UTC:20211009T080000
DTEND;TZID=UTC:20211009T080000
DTSTAMP:20260420T180447
CREATED:20211026T084248Z
LAST-MODIFIED:20211026T084248Z
UID:6763-1633766400-1633766400@trsu.ac.th
SUMMARY:การจัดสอบ Real TOEIC สำหรับนักศึกษาชั้นปีที่ 4
DESCRIPTION:
URL:https://trsu.ac.th/event/%e0%b8%81%e0%b8%b2%e0%b8%a3%e0%b8%88%e0%b8%b1%e0%b8%94%e0%b8%aa%e0%b8%ad%e0%b8%9a-real-toeic-%e0%b8%aa%e0%b8%b3%e0%b8%ab%e0%b8%a3%e0%b8%b1%e0%b8%9a%e0%b8%99%e0%b8%b1%e0%b8%81%e0%b8%a8%e0%b8%b6
LOCATION:Joseph Maria Building & St Mary Building
CATEGORIES:Humanities & Social Science Faculty Events
END:VEVENT
BEGIN:VEVENT
DTSTART;TZID=UTC:20211002T090000
DTEND;TZID=UTC:20211002T130000
DTSTAMP:20260420T180447
CREATED:20220222T070526Z
LAST-MODIFIED:20220222T070526Z
UID:7471-1633165200-1633179600@trsu.ac.th
SUMMARY:โครงการสัมมนาผู้เชี่ยวชาญด้านนิเทศศาสตร์ : เสริมทักษะการผลิตสื่อแอมิเมชั่น
DESCRIPTION:โครงการสัมมนาผู้เชี่ยวชาญผู้เชี่ยวชาญด้านนิเทศศาสตร์ \nกิจกรรมเสริมทักษะการผลิตสื่อแอนิเมชัน วิทยากรโดยคุณดนุพล จงอริยะกุล \nวันเสาร์ ที่ 2 ตุลาคม 2564 เวลา 08.45-13.00 น. Google meet : hxt-tqoj-sji \n 
URL:https://trsu.ac.th/event/%e0%b9%82%e0%b8%84%e0%b8%a3%e0%b8%87%e0%b8%81%e0%b8%b2%e0%b8%a3%e0%b8%aa%e0%b8%b1%e0%b8%a1%e0%b8%a1%e0%b8%99%e0%b8%b2%e0%b8%9c%e0%b8%b9%e0%b9%89%e0%b9%80%e0%b8%8a%e0%b8%b5%e0%b9%88%e0%b8%a2%e0%b8%a7-3
LOCATION:Online\, Thailand
CATEGORIES:Humanities & Social Science Faculty Events
END:VEVENT
BEGIN:VEVENT
DTSTART;TZID=UTC:20210701T080000
DTEND;TZID=UTC:20210701T110000
DTSTAMP:20260420T180447
CREATED:20211026T085419Z
LAST-MODIFIED:20211026T085419Z
UID:6759-1625126400-1625137200@trsu.ac.th
SUMMARY:การประเมินคุณภาพการศึกษาภายใน คณะมนุษยศาสตร์และสังคมศาสตร์
DESCRIPTION:
URL:https://trsu.ac.th/event/%e0%b8%81%e0%b8%b2%e0%b8%a3%e0%b8%9b%e0%b8%a3%e0%b8%b0%e0%b9%80%e0%b8%a1%e0%b8%b4%e0%b8%99%e0%b8%84%e0%b8%b8%e0%b8%93%e0%b8%a0%e0%b8%b2%e0%b8%9e%e0%b8%81%e0%b8%b2%e0%b8%a3%e0%b8%a8%e0%b8%b6%e0%b8%81-7
LOCATION:Maria Room
CATEGORIES:Humanities & Social Science Faculty Events
END:VEVENT
BEGIN:VEVENT
DTSTART;TZID=UTC:20210615T130000
DTEND;TZID=UTC:20210615T170000
DTSTAMP:20260420T180447
CREATED:20211026T084439Z
LAST-MODIFIED:20211026T084439Z
UID:6758-1623762000-1623776400@trsu.ac.th
SUMMARY:การประเมินคุณภาพการศึกษาภายใน หลักสูตรศิลปศาสตรบัณฑิต สาขาวิชาภาษาอังกฤษเพื่อการสื่อสารทางธุรกิจ
DESCRIPTION:
URL:https://trsu.ac.th/event/%e0%b8%81%e0%b8%b2%e0%b8%a3%e0%b8%9b%e0%b8%a3%e0%b8%b0%e0%b9%80%e0%b8%a1%e0%b8%b4%e0%b8%99%e0%b8%84%e0%b8%b8%e0%b8%93%e0%b8%a0%e0%b8%b2%e0%b8%9e%e0%b8%81%e0%b8%b2%e0%b8%a3%e0%b8%a8%e0%b8%b6%e0%b8%81-5
LOCATION:Maria Room
CATEGORIES:Humanities & Social Science Faculty Events
END:VEVENT
BEGIN:VEVENT
DTSTART;TZID=UTC:20210615T080000
DTEND;TZID=UTC:20210615T110000
DTSTAMP:20260420T180447
CREATED:20211026T084619Z
LAST-MODIFIED:20211026T084619Z
UID:6755-1623744000-1623754800@trsu.ac.th
SUMMARY:การประเมินคุณภาพการศึกษาภายใน ระดับหลักสูตรนิเทศศาสตรบัณฑิต สาขาวิชาสื่อดิจิทัล
DESCRIPTION:
URL:https://trsu.ac.th/event/%e0%b8%81%e0%b8%b2%e0%b8%a3%e0%b8%9b%e0%b8%a3%e0%b8%b0%e0%b9%80%e0%b8%a1%e0%b8%b4%e0%b8%99%e0%b8%84%e0%b8%b8%e0%b8%93%e0%b8%a0%e0%b8%b2%e0%b8%9e%e0%b8%81%e0%b8%b2%e0%b8%a3%e0%b8%a8%e0%b8%b6%e0%b8%81-6
LOCATION:Maria Room
CATEGORIES:Humanities & Social Science Faculty Events
END:VEVENT
END:VCALENDAR