BEGIN:VCALENDAR
VERSION:2.0
PRODID:-//St Teresa International University - ECPv6.5.1.5//NONSGML v1.0//EN
CALSCALE:GREGORIAN
METHOD:PUBLISH
X-WR-CALNAME:St Teresa International University
X-ORIGINAL-URL:https://trsu.ac.th
X-WR-CALDESC:Events for St Teresa International University
REFRESH-INTERVAL;VALUE=DURATION:PT1H
X-Robots-Tag:noindex
X-PUBLISHED-TTL:PT1H
BEGIN:VTIMEZONE
TZID:UTC
BEGIN:STANDARD
TZOFFSETFROM:+0000
TZOFFSETTO:+0000
TZNAME:UTC
DTSTART:20240101T000000
END:STANDARD
END:VTIMEZONE
BEGIN:VEVENT
DTSTART;TZID=UTC:20240125T090000
DTEND;TZID=UTC:20240125T113000
DTSTAMP:20260421T024853
CREATED:20240127T043737Z
LAST-MODIFIED:20240127T043737Z
UID:8928-1706173200-1706182200@trsu.ac.th
SUMMARY:วิพากษ์หลักสูตรนิเทศศาสตรบัฑิต หลักสูตรปรับปรุง พ.ศ.2568
DESCRIPTION:
URL:https://trsu.ac.th/event/%e0%b8%a7%e0%b8%b4%e0%b8%9e%e0%b8%b2%e0%b8%81%e0%b8%a9%e0%b9%8c%e0%b8%ab%e0%b8%a5%e0%b8%b1%e0%b8%81%e0%b8%aa%e0%b8%b9%e0%b8%95%e0%b8%a3%e0%b8%99%e0%b8%b4%e0%b9%80%e0%b8%97%e0%b8%a8%e0%b8%a8%e0%b8%b2
LOCATION:Maria Room
CATEGORIES:Humanities & Social Science Faculty Events
END:VEVENT
BEGIN:VEVENT
DTSTART;TZID=UTC:20240126T160000
DTEND;TZID=UTC:20240126T210000
DTSTAMP:20260421T024853
CREATED:20240127T031121Z
LAST-MODIFIED:20240127T031121Z
UID:8926-1706284800-1706302800@trsu.ac.th
SUMMARY:International Day 2024
DESCRIPTION:
URL:https://trsu.ac.th/event/international-day-2024
LOCATION:JMB Hall
CATEGORIES:Humanities & Social Science Faculty Events
END:VEVENT
BEGIN:VEVENT
DTSTART;TZID=UTC:20240130T080000
DTEND;TZID=UTC:20240130T170000
DTSTAMP:20260421T024853
CREATED:20240127T022512Z
LAST-MODIFIED:20240127T022512Z
UID:8916-1706601600-1706634000@trsu.ac.th
SUMMARY:BE-Study Visit at Nation TV
DESCRIPTION:
URL:https://trsu.ac.th/event/be-study-visit-at-nation-tv
LOCATION:Nation TV
CATEGORIES:Humanities & Social Science Faculty Events
END:VEVENT
BEGIN:VEVENT
DTSTART;TZID=UTC:20240208T143000
DTEND;TZID=UTC:20240208T153000
DTSTAMP:20260421T024853
CREATED:20240127T022249Z
LAST-MODIFIED:20240127T022249Z
UID:8914-1707402600-1707406200@trsu.ac.th
SUMMARY:Express Yourself-Huso Showcase 2024
DESCRIPTION:
URL:https://trsu.ac.th/event/express-yourself-huso-showcase-2024
LOCATION:Language and Arts Edifice
CATEGORIES:Humanities & Social Science Faculty Events
END:VEVENT
BEGIN:VEVENT
DTSTART;TZID=UTC:20240318T080000
DTEND;TZID=UTC:20240318T160000
DTSTAMP:20260421T024853
CREATED:20240401T035647Z
LAST-MODIFIED:20240401T035647Z
UID:8973-1710748800-1710777600@trsu.ac.th
SUMMARY:Intensive English Program Orientation 2024
DESCRIPTION:
URL:https://trsu.ac.th/event/intensive-english-program-orientation-2024
LOCATION:JMB Hall
CATEGORIES:Humanities & Social Science Faculty Events
END:VEVENT
BEGIN:VEVENT
DTSTART;TZID=UTC:20240322T143000
DTEND;TZID=UTC:20240322T153000
DTSTAMP:20260421T024853
CREATED:20240401T040048Z
LAST-MODIFIED:20240401T040048Z
UID:8975-1711117800-1711121400@trsu.ac.th
SUMMARY:Intensive English Program Pre-Test
DESCRIPTION:
URL:https://trsu.ac.th/event/intensive-english-program-pre-test
LOCATION:St Teresa International University
CATEGORIES:Humanities & Social Science Faculty Events
END:VEVENT
BEGIN:VEVENT
DTSTART;TZID=UTC:20240326T180000
DTEND;TZID=UTC:20240326T180000
DTSTAMP:20260421T024853
CREATED:20240401T040558Z
LAST-MODIFIED:20240401T040558Z
UID:8979-1711476000-1711476000@trsu.ac.th
SUMMARY:Dorm Night
DESCRIPTION:
URL:https://trsu.ac.th/event/dorm-night
LOCATION:St Teresa International University
CATEGORIES:Humanities & Social Science Faculty Events
END:VEVENT
BEGIN:VEVENT
DTSTART;TZID=UTC:20240402T180000
DTEND;TZID=UTC:20240402T180000
DTSTAMP:20260421T024853
CREATED:20240401T040659Z
LAST-MODIFIED:20240401T040659Z
UID:8984-1712080800-1712080800@trsu.ac.th
SUMMARY:Dorm Night
DESCRIPTION:
URL:https://trsu.ac.th/event/dorm-night-2
LOCATION:St Teresa International University
CATEGORIES:Humanities & Social Science Faculty Events
END:VEVENT
BEGIN:VEVENT
DTSTART;TZID=UTC:20240409T180000
DTEND;TZID=UTC:20240409T180000
DTSTAMP:20260421T024853
CREATED:20240401T041324Z
LAST-MODIFIED:20240401T041324Z
UID:8986-1712685600-1712685600@trsu.ac.th
SUMMARY:Dorm Night
DESCRIPTION:
URL:https://trsu.ac.th/event/dorm-night-3
LOCATION:St Teresa International University
CATEGORIES:Humanities & Social Science Faculty Events
END:VEVENT
BEGIN:VEVENT
DTSTART;TZID=UTC:20240423T180000
DTEND;TZID=UTC:20240423T180000
DTSTAMP:20260421T024853
CREATED:20240401T041423Z
LAST-MODIFIED:20240401T041423Z
UID:8988-1713895200-1713895200@trsu.ac.th
SUMMARY:Dorm Night
DESCRIPTION:
URL:https://trsu.ac.th/event/dorm-night-4
LOCATION:St Teresa International University
CATEGORIES:Humanities & Social Science Faculty Events
END:VEVENT
BEGIN:VEVENT
DTSTART;TZID=UTC:20240430T180000
DTEND;TZID=UTC:20240430T180000
DTSTAMP:20260421T024853
CREATED:20240401T041510Z
LAST-MODIFIED:20240401T041510Z
UID:8990-1714500000-1714500000@trsu.ac.th
SUMMARY:Dorm Night
DESCRIPTION:
URL:https://trsu.ac.th/event/dorm-night-5
LOCATION:St Teresa International University
CATEGORIES:Humanities & Social Science Faculty Events
END:VEVENT
BEGIN:VEVENT
DTSTART;TZID=UTC:20240507T180000
DTEND;TZID=UTC:20240507T180000
DTSTAMP:20260421T024853
CREATED:20240401T041556Z
LAST-MODIFIED:20240401T041556Z
UID:8992-1715104800-1715104800@trsu.ac.th
SUMMARY:Dorm Night
DESCRIPTION:
URL:https://trsu.ac.th/event/dorm-night-6
LOCATION:St Teresa International University
CATEGORIES:Humanities & Social Science Faculty Events
END:VEVENT
BEGIN:VEVENT
DTSTART;TZID=UTC:20240514T180000
DTEND;TZID=UTC:20240514T180000
DTSTAMP:20260421T024853
CREATED:20240401T041651Z
LAST-MODIFIED:20240401T041651Z
UID:8994-1715709600-1715709600@trsu.ac.th
SUMMARY:Dorm Night
DESCRIPTION:
URL:https://trsu.ac.th/event/dorm-night-7
LOCATION:St Teresa International University
CATEGORIES:Humanities & Social Science Faculty Events
END:VEVENT
BEGIN:VEVENT
DTSTART;TZID=UTC:20240521T183000
DTEND;TZID=UTC:20240521T183000
DTSTAMP:20260421T024853
CREATED:20240401T041735Z
LAST-MODIFIED:20240401T041735Z
UID:8996-1716316200-1716316200@trsu.ac.th
SUMMARY:Dorm Night
DESCRIPTION:
URL:https://trsu.ac.th/event/dorm-night-8
LOCATION:St Teresa International University
CATEGORIES:Humanities & Social Science Faculty Events
END:VEVENT
END:VCALENDAR