BEGIN:VCALENDAR
VERSION:2.0
PRODID:-//St Teresa International University - ECPv6.5.1.5//NONSGML v1.0//EN
CALSCALE:GREGORIAN
METHOD:PUBLISH
X-WR-CALNAME:St Teresa International University
X-ORIGINAL-URL:https://trsu.ac.th
X-WR-CALDESC:Events for St Teresa International University
REFRESH-INTERVAL;VALUE=DURATION:PT1H
X-Robots-Tag:noindex
X-PUBLISHED-TTL:PT1H
BEGIN:VTIMEZONE
TZID:UTC
BEGIN:STANDARD
TZOFFSETFROM:+0000
TZOFFSETTO:+0000
TZNAME:UTC
DTSTART:20210101T000000
END:STANDARD
END:VTIMEZONE
BEGIN:VEVENT
DTSTART;TZID=UTC:20211203T133000
DTEND;TZID=UTC:20211203T160000
DTSTAMP:20260424T063913
CREATED:20211127T092920Z
LAST-MODIFIED:20211127T092920Z
UID:7390-1638538200-1638547200@trsu.ac.th
SUMMARY:ประชุมสภาวิทยาลัย ครั้งที่ 4/2564
DESCRIPTION:
URL:https://trsu.ac.th/event/%e0%b8%9b%e0%b8%a3%e0%b8%b0%e0%b8%8a%e0%b8%b8%e0%b8%a1%e0%b8%aa%e0%b8%a0%e0%b8%b2%e0%b8%a7%e0%b8%b4%e0%b8%97%e0%b8%a2%e0%b8%b2%e0%b8%a5%e0%b8%b1%e0%b8%a2-%e0%b8%84%e0%b8%a3%e0%b8%b1%e0%b9%89%e0%b8%87
LOCATION:Saint Mary Buliding\, SMB-104 \, 1st floor
CATEGORIES:College Events,President Office
END:VEVENT
END:VCALENDAR