BEGIN:VCALENDAR
VERSION:2.0
PRODID:-//St Teresa International University - ECPv6.5.1.5//NONSGML v1.0//EN
CALSCALE:GREGORIAN
METHOD:PUBLISH
X-ORIGINAL-URL:https://trsu.ac.th
X-WR-CALDESC:Events for St Teresa International University
REFRESH-INTERVAL;VALUE=DURATION:PT1H
X-Robots-Tag:noindex
X-PUBLISHED-TTL:PT1H
BEGIN:VTIMEZONE
TZID:UTC
BEGIN:STANDARD
TZOFFSETFROM:+0000
TZOFFSETTO:+0000
TZNAME:UTC
DTSTART:20240101T000000
END:STANDARD
END:VTIMEZONE
BEGIN:VEVENT
DTSTART;TZID=UTC:20240108T083000
DTEND;TZID=UTC:20240108T230000
DTSTAMP:20260419T234027
CREATED:20240127T060805Z
LAST-MODIFIED:20240127T060805Z
UID:8930-1704702600-1704754800@trsu.ac.th
SUMMARY:BE-Internship Presentation (Online)
DESCRIPTION:
URL:https://trsu.ac.th/event/be-internship-presentation-online
LOCATION:Online\, Thailand
CATEGORIES:Humanities & Social Science Faculty Events
END:VEVENT
BEGIN:VEVENT
DTSTART;TZID=UTC:20240111T090000
DTEND;TZID=UTC:20240111T230000
DTSTAMP:20260419T234027
CREATED:20240127T061108Z
LAST-MODIFIED:20240127T061108Z
UID:8932-1704963600-1705014000@trsu.ac.th
SUMMARY:BE-Internship Presentation (Onsite)
DESCRIPTION:
URL:https://trsu.ac.th/event/be-internship-presentation-onsite
LOCATION:Room 310
CATEGORIES:Humanities & Social Science Faculty Events
END:VEVENT
BEGIN:VEVENT
DTSTART;TZID=UTC:20240111T110000
DTEND;TZID=UTC:20240111T130000
DTSTAMP:20260419T234027
CREATED:20240127T025747Z
LAST-MODIFIED:20240127T025747Z
UID:8918-1704970800-1704978000@trsu.ac.th
SUMMARY:HuSo-BYENIOR
DESCRIPTION:
URL:https://trsu.ac.th/event/huso-byenior
LOCATION:St Christopher Sports Club
CATEGORIES:Humanities & Social Science Faculty Events
END:VEVENT
BEGIN:VEVENT
DTSTART;TZID=UTC:20240115T093000
DTEND;TZID=UTC:20240115T113000
DTSTAMP:20260419T234027
CREATED:20240127T030051Z
LAST-MODIFIED:20240127T030051Z
UID:8920-1705311000-1705318200@trsu.ac.th
SUMMARY:"Pathways to Patent: Navigating Intellectual Property for Academic Excellence\,"
DESCRIPTION:
URL:https://trsu.ac.th/event/pathways-to-patent-navigating-intellectual-property-for-academic-excellence
LOCATION:Room 316
CATEGORIES:Humanities & Social Science Faculty Events
END:VEVENT
BEGIN:VEVENT
DTSTART;TZID=UTC:20240115T130000
DTEND;TZID=UTC:20240115T150000
DTSTAMP:20260419T234027
CREATED:20240127T030943Z
LAST-MODIFIED:20240127T030943Z
UID:8924-1705323600-1705330800@trsu.ac.th
SUMMARY:"Curriculum Management and Development in Compliance with the New Higher Education Act."
DESCRIPTION:
URL:https://trsu.ac.th/event/curriculum-management-and-development-in-compliance-with-the-new-higher-education-act
LOCATION:SMB 107
CATEGORIES:Humanities & Social Science Faculty Events
END:VEVENT
BEGIN:VEVENT
DTSTART;TZID=UTC:20240117T120000
DTEND;TZID=UTC:20240117T130000
DTSTAMP:20260419T234027
CREATED:20240127T030715Z
LAST-MODIFIED:20240127T030715Z
UID:8922-1705492800-1705496400@trsu.ac.th
SUMMARY:KM's DAY 2/2023 "Learning Management towards Excellence II\,"
DESCRIPTION:
URL:https://trsu.ac.th/event/kms-day-2-2023-learning-management-towards-excellence-ii
LOCATION:Lobby of Administration Building
CATEGORIES:Humanities & Social Science Faculty Events
END:VEVENT
BEGIN:VEVENT
DTSTART;TZID=UTC:20240125T090000
DTEND;TZID=UTC:20240125T113000
DTSTAMP:20260419T234027
CREATED:20240127T043737Z
LAST-MODIFIED:20240127T043737Z
UID:8928-1706173200-1706182200@trsu.ac.th
SUMMARY:วิพากษ์หลักสูตรนิเทศศาสตรบัฑิต หลักสูตรปรับปรุง พ.ศ.2568
DESCRIPTION:
URL:https://trsu.ac.th/event/%e0%b8%a7%e0%b8%b4%e0%b8%9e%e0%b8%b2%e0%b8%81%e0%b8%a9%e0%b9%8c%e0%b8%ab%e0%b8%a5%e0%b8%b1%e0%b8%81%e0%b8%aa%e0%b8%b9%e0%b8%95%e0%b8%a3%e0%b8%99%e0%b8%b4%e0%b9%80%e0%b8%97%e0%b8%a8%e0%b8%a8%e0%b8%b2
LOCATION:Maria Room
CATEGORIES:Humanities & Social Science Faculty Events
END:VEVENT
BEGIN:VEVENT
DTSTART;TZID=UTC:20240126T160000
DTEND;TZID=UTC:20240126T210000
DTSTAMP:20260419T234027
CREATED:20240127T031121Z
LAST-MODIFIED:20240127T031121Z
UID:8926-1706284800-1706302800@trsu.ac.th
SUMMARY:International Day 2024
DESCRIPTION:
URL:https://trsu.ac.th/event/international-day-2024
LOCATION:JMB Hall
CATEGORIES:Humanities & Social Science Faculty Events
END:VEVENT
BEGIN:VEVENT
DTSTART;TZID=UTC:20240130T080000
DTEND;TZID=UTC:20240130T170000
DTSTAMP:20260419T234027
CREATED:20240127T022512Z
LAST-MODIFIED:20240127T022512Z
UID:8916-1706601600-1706634000@trsu.ac.th
SUMMARY:BE-Study Visit at Nation TV
DESCRIPTION:
URL:https://trsu.ac.th/event/be-study-visit-at-nation-tv
LOCATION:Nation TV
CATEGORIES:Humanities & Social Science Faculty Events
END:VEVENT
END:VCALENDAR